{"text_format":"1","workbook":"xlsx","n_sheets":11,"sheets":["Payment info","Lunches","CAT; A","CAT; B","CAT; M","Relay AB","CAT; C","CAT; D","Relay CD","Transfer","Parameters"],"not_rendered":{"charts":0,"images":0,"macros":1,"external_links":0,"defined_names":0,"comments":0,"pivot_tables":0},"unopened":[],"bounds":{"document_bytes":16777216,"sheet_cells":100000,"rows_first":2000,"rows_last":500,"rows_between":2000,"halvings":0,"cell_chars":16384,"cell_head_chars":4096},"cells_cut":0,"cells_raw":0,"read":"whole","date_system":"1900"}

{"sheet":"Payment info","index":0,"n_rows":14,"n_cols":6,"rows_kept":14,"cut":false,"hidden":false,"merged":[]}
[{"$f":"\"Payment information for: \"&'CAT; A'!C4","v":"Payment information for: "},null,null,null," ",{"$f":"\"Payment has to be transferred before the \"&Parameters!B3&\" \"&Parameters!B1&\" to:\"","v":"Payment has to be transferred before the 20th of June 2024 to:"}]
[]
["Total Cost","Sum of starts\n Athletes","Sum of starts\nTeams","Total",null,"Stichting Stadstriathlon Weert"]
["Cat. A-B-M",{"$f":"'CAT; A'!E34+'CAT; B'!E34+'CAT; M'!E34","v":0},{"$f":"'Relay AB'!D38+'Relay AB'!D67","v":0},{"$f":"(B4*B11)+(C4*B12)","v":0},null,"IBAN: NL02 RABO 0300680619"]
["Cat C-D/E",{"$f":"'CAT; C'!E34+'CAT; D'!E34","v":0},{"$f":"'Relay CD'!D38+'Relay CD'!D67","v":0},{"$f":"(B13*B5)+(B14*C5)","v":0},null,{"$f":"\"with remark: COW\"&RIGHT(Parameters!B1,2)&\" + \"&'CAT; A'!C4","v":"with remark: COW24 + "}]
["Lunches",null,null,{"$f":"Lunches!B22","v":0}]
[]
[null,null,"Total cost",{"$f":"SUM(D4:D7)","v":0}]
[]
["Registration fee","Price"]
["Athletes A-B-M per start",5]
["Teams A-B-M per start",5]
["Athletes C-D/E per start",4]
["Teams C-D/E per start",4]

{"sheet":"Lunches","index":1,"n_rows":24,"n_cols":6,"rows_kept":24,"cut":false,"hidden":false,"merged":[]}
[{"$f":"\"COW \"&Parameters!B1&\" Lunch order form for \"&'CAT; A'!C4","v":"COW 2024 Lunch order form for "}]
["Last entry:",{"$f":"Parameters!B2","v":"16th of June"}]
[]
[null,"Healty","Healty Vegan","Ham/Cheese","Salmon"]
["Price of sandwich 20 cm",5,5,5,6]
[null,"Sandwich 1","Sandwich 2","Sandwich 3","Sandwich 4","Total"]
["Sandwiches Saturday",null,null,null,null,{"$f":"SUM(B7:E7)","v":0}]
["Sandwiches Sunday",null,null,null,null,{"$f":"SUM(B8:E8)","v":0}]
[]
["Subtotal 20cm sandwich",{"$f":"SUM(B7:B8)","v":0},{"$f":"SUM(C7:C8)","v":0},0,0]
["Subtotal:",{"$f":"B5*B10","v":0},{"$f":"C5*C10","v":0},0,0,{"$f":"SUM(B11:E11)","v":0}]
[]
[null,"Healty","Healty Vegan","Ham/Cheese","Salmon"]
["Price of sandwich 30 cm",6.5,6.5,6.5,7.5]
[null,"Sandwich 1","Sandwich 2","Sandwich 3","Sandwich 4","Total"]
["Sandwiches Saturday",null,null,null,null,{"$f":"SUM(B16:E16)","v":0}]
["Sandwiches Sunday",null,null,null,null,{"$f":"SUM(B17:E17)","v":0}]
[]
["Subtotal 30cm sandwich",{"$f":"SUM(B16:B17)","v":0},{"$f":"SUM(C16:C17)","v":0},0,0," "]
[null,{"$f":"B14*B19","v":0},{"$f":"C14*C19","v":0},{"$f":"D14*D19","v":0},{"$f":"E14*E19","v":0},{"$f":"SUM(B20:E20)","v":0}]
[null," "]
["Total Cost lunches",{"$f":"SUMPRODUCT(B5:E5,B10:E10)+SUMPRODUCT(B14:E14,B19:E19)","v":0}]
[null," "]
[null," "]

{"sheet":"CAT; A","index":2,"n_rows":47,"n_cols":10,"rows_kept":47,"cut":false,"hidden":false,"merged":[[8,2,8,7],[9,2,9,7],[2,2,2,7],[3,2,3,7],[4,2,4,7],[5,2,5,7],[6,2,6,7],[7,2,7,7]]}
[{"$f":"\"COW \"&Parameters!B1&\" Entry form competition: CAT: A: year of birth \"&Parameters!B10&\" and earlier\"","v":"COW 2024 Entry form competition: CAT: A: year of birth 2005 and earlier"}]
[null,"Last entry:",{"$f":"Parameters!$B$2","v":"16th of June"}]
[null,"Team-number:"]
[null,"Team-name:"]
[null,"Country:"]
[null,"Team-manager:"]
[null,"e-mail:"]
[null,"Phone:"]
[null,"Address:"]
[null,"ZipCode / Town:"]
["Female",null,null,null,"Number of individual \nstarts","Surf Race","Board Race","Ski race","Ocean(wo)man","2 km City Ocean Run"]
["Team + nr","Surname","Given name","Year of birth",null,1,2,3,4,5]
[null,null,null,"YYYY"]
[{"$f":"$C$3&\"-01\"","v":"-01"},null,null,null,{"$f":"SUM(F14:J14)","v":0},0,0,0,0,0]
[{"$f":"$C$3&\"-02\"","v":"-02"},null,null,null,{"$f":"SUM(F15:J15)","v":0},0,0,0,0,0]
[{"$f":"$C$3&\"-03\"","v":"-03"},null,null,null,0,0,0,0,0,0]
[{"$f":"$C$3&\"-04\"","v":"-04"},null,null,null,0,0,0,0,0,0]
[{"$f":"$C$3&\"-05\"","v":"-05"},null,null,null,0,0,0,0,0,0]
[{"$f":"$C$3&\"-06\"","v":"-06"},null,null,null,0,0,0,0,0,0]
[]
[null,null,null,"Total Starts Female:",{"$f":"SUM(E14:E19)","v":0},0,0,0,0,0]
["Male",null,null,null,"Number of individual \nstarts",{"$f":"F11","v":"Surf Race"},{"$f":"G11","v":"Board Race"},"Ski race","Ocean(wo)man","2 km City Ocean Run"]
["Team + nr","Surname","Given name","Year of birth",null,1,2,3,4,5]
[null,null,null,"YYYY"]
[{"$f":"$C$3&\"-11\"","v":"-11"},null,null,null,{"$f":"SUM(F25:J25)","v":0},0,0,0,0,0]
[{"$f":"$C$3&\"-12\"","v":"-12"},null,null,null,0,0,0,0,0,0]
[{"$f":"$C$3&\"-13\"","v":"-13"},null,null,null,0,0,0,0,0,0]
[{"$f":"$C$3&\"-14\"","v":"-14"},null,null,null,0,0,0,0,0,0]
[{"$f":"$C$3&\"-15\"","v":"-15"},null,null,null,0,0,0,0,0,0]
[{"$f":"$C$3&\"-16\"","v":"-16"},null,null,null,0,0,0,0,0,0]
[]
[null,null,null,"Total Starts Male:",{"$f":"SUM(E25:E30)","v":0},0,0,0,0,0]
[]
[null,null,null,"Total Starts Female + Male:",{"$f":"SUM(E32+E21)","v":0},0,0,0,0,0]
[]
["Room for remarks towards the organization:"]
[]
[]
[null,null," ",null,null," "]
[]
[]
[]
[]
[]
[]
[" "," "," "]
[" "," "," "]

{"sheet":"CAT; B","index":3,"n_rows":39,"n_cols":10,"rows_kept":39,"cut":false,"hidden":false,"merged":[[7,2,7,7],[8,2,8,7],[9,2,9,7],[2,2,2,7],[3,2,3,7],[4,2,4,7],[5,2,5,7],[6,2,6,7]]}
[{"$f":"\"COW \"&Parameters!B1&\" Entry form competition: CAT: B: year of birth \"&Parameters!B9&\" up to and incl. \"&Parameters!B8","v":"COW 2024 Entry form competition: CAT: B: year of birth 2006 up to and incl. 2009"}]
[null,"Last entry:",{"$f":"Parameters!$B$2","v":"16th of June"}]
[null,{"$f":"'CAT; A'!B3","v":"Team-number:"}]
[null,{"$f":"'CAT; A'!B4","v":"Team-name:"},{"$f":"IF('CAT; A'!C4=\"\",\"\",'CAT; A'!C4)","v":""}]
[null,{"$f":"'CAT; A'!B5","v":"Country:"},{"$f":"IF('CAT; A'!C5=\"\",\"\",'CAT; A'!C5)","v":""}]
[null,{"$f":"'CAT; A'!B6","v":"Team-manager:"},{"$f":"IF('CAT; A'!C6=\"\",\"\",'CAT; A'!C6)","v":""}]
[null,{"$f":"'CAT; A'!B7","v":"e-mail:"},{"$f":"IF('CAT; A'!C7=\"\",\"\",'CAT; A'!C7)","v":""}]
[null,{"$f":"'CAT; A'!B8","v":"Phone:"},{"$f":"IF('CAT; A'!C8=\"\",\"\",'CAT; A'!C8)","v":""}]
[null,{"$f":"'CAT; A'!B9","v":"Address:"},{"$f":"IF('CAT; A'!C9=\"\",\"\",'CAT; A'!C9)","v":""}]
[null,{"$f":"'CAT; A'!B10","v":"ZipCode / Town:"},{"$f":"IF('CAT; A'!C10=\"\",\"\",'CAT; A'!C10)","v":""}]
["Female",null,null,null,"Number of individual \nstarts",{"$f":"'CAT; A'!F11","v":"Surf Race"},{"$f":"'CAT; A'!G11","v":"Board Race"},{"$f":"'CAT; A'!H11","v":"Ski race"},{"$f":"'CAT; A'!I11","v":"Ocean(wo)man"},{"$f":"'CAT; A'!J11","v":"2 km City Ocean Run"}]
["Team + nr","Surname","Given name","Year of birth",null,1,2,3,4,5]
[null,null,null,"YYYY"]
[{"$f":"$C$3&\"-01\"","v":"-01"},null,null,null,{"$f":"SUM(F14:J14)","v":0},0,0,0,0,0]
[{"$f":"$C$3&\"-02\"","v":"-02"},null,null,null,{"$f":"SUM(F15:J15)","v":0},0,0,0,0,0]
[{"$f":"$C$3&\"-03\"","v":"-03"},null,null,null,0,0,0,0,0,0]
[{"$f":"$C$3&\"-04\"","v":"-04"},null,null,null,0,0,0,0,0,0]
[{"$f":"$C$3&\"-05\"","v":"-05"},null,null,null,0,0,0,0,0,0]
[{"$f":"$C$3&\"-06\"","v":"-06"},null,null,null,0,0,0,0,0,0]
[]
["Total",null,null,{"$f":"'CAT; A'!D21","v":"Total Starts Female:"},{"$f":"SUM(E14:E19)","v":0},{"$f":"SUM(F14:F19)","v":0},0,0,0,0]
["Male",null,null,null,"Number of individual \nstarts",{"$f":"F11","v":"Surf Race"},{"$f":"G11","v":"Board Race"},"Ski race","Ocean(wo)man","2 km City Ocean Run"]
["Team + nr","Surname","Given name","Year of birth",null,1,2,3,4,5]
[null,null,null,"YYYY"]
[{"$f":"$C$3&\"-11\"","v":"-11"},null,null,null,{"$f":"SUM(F25:J25)","v":0},0,0,0,0,0]
[{"$f":"$C$3&\"-12\"","v":"-12"},null,null,null,0,0,0,0,0,0]
[{"$f":"$C$3&\"-13\"","v":"-13"},null,null,null,0,0,0,0,0,0]
[{"$f":"$C$3&\"-14\"","v":"-14"},null,null,null,0,0,0,0,0,0]
[{"$f":"$C$3&\"-15\"","v":"-15"},null,null,null,0,0,0,0,0,0]
[{"$f":"$C$3&\"-16\"","v":"-16"},null,null,null,0,0,0,0,0,0]
[]
["Total",null,null,"Total Starts Male:",{"$f":"SUM(E25:E30)","v":0},0,0,0,0,0]
[]
[null,null,null,"Total Starts Female + Male:",{"$f":"SUM(E32+E21)","v":0},0,0,0,0,0]
[]
["Room for remarks towards the organization:"]
[]
[]
[null,null," ",null,null," "]

{"sheet":"CAT; M","index":4,"n_rows":39,"n_cols":10,"rows_kept":39,"cut":false,"hidden":false,"merged":[[7,2,7,7],[8,2,8,7],[9,2,9,7],[2,2,2,7],[3,2,3,7],[4,2,4,7],[5,2,5,7],[6,2,6,7]]}
[{"$f":"\"COW \"&Parameters!B1&\" Entry form competition: CAT: M: year of birth \"&Parameters!B11&\" and earlier\"","v":"COW 2024 Entry form competition: CAT: M: year of birth 1994 and earlier"}]
[null,"Last entry:",{"$f":"Parameters!$B$2","v":"16th of June"}]
[null,{"$f":"'CAT; A'!B3","v":"Team-number:"}]
[null,{"$f":"'CAT; A'!B4","v":"Team-name:"},{"$f":"IF('CAT; A'!C4=\"\",\"\",'CAT; A'!C4)","v":""}]
[null,{"$f":"'CAT; A'!B5","v":"Country:"},{"$f":"IF('CAT; A'!C5=\"\",\"\",'CAT; A'!C5)","v":""}]
[null,{"$f":"'CAT; A'!B6","v":"Team-manager:"},{"$f":"IF('CAT; A'!C6=\"\",\"\",'CAT; A'!C6)","v":""}]
[null,{"$f":"'CAT; A'!B7","v":"e-mail:"},{"$f":"IF('CAT; A'!C7=\"\",\"\",'CAT; A'!C7)","v":""}]
[null,{"$f":"'CAT; A'!B8","v":"Phone:"},{"$f":"IF('CAT; A'!C8=\"\",\"\",'CAT; A'!C8)","v":""}]
[null,{"$f":"'CAT; A'!B9","v":"Address:"},{"$f":"IF('CAT; A'!C9=\"\",\"\",'CAT; A'!C9)","v":""}]
[null,{"$f":"'CAT; A'!B10","v":"ZipCode / Town:"},{"$f":"IF('CAT; A'!C10=\"\",\"\",'CAT; A'!C10)","v":""}]
["Female",null,null,null,"Number of individual \nstarts",{"$f":"'CAT; A'!F11","v":"Surf Race"},{"$f":"'CAT; A'!G11","v":"Board Race"},{"$f":"'CAT; A'!H11","v":"Ski race"},{"$f":"'CAT; A'!I11","v":"Ocean(wo)man"},{"$f":"'CAT; A'!J11","v":"2 km City Ocean Run"}]
["Team + nr","Surname","Given name","Year of birth",null,1,2,3,4,5]
[null,null,null,"YYYY"]
[{"$f":"$C$3&\"-01\"","v":"-01"},null,null,null,{"$f":"SUM(F14:J14)","v":0},0,0,0,0,0]
[{"$f":"$C$3&\"-02\"","v":"-02"},null,null,null,{"$f":"SUM(F15:J15)","v":0},0,0,0,0,0]
[{"$f":"$C$3&\"-03\"","v":"-03"},null,null,null,0,0,0,0,0,0]
[{"$f":"$C$3&\"-04\"","v":"-04"},null,null,null,0,0,0,0,0,0]
[{"$f":"$C$3&\"-05\"","v":"-05"},null,null,null,0,0,0,0,0,0]
[{"$f":"$C$3&\"-06\"","v":"-06"},null,null,null,0,0,0,0,0,0]
[]
[null,null,null,{"$f":"'CAT; A'!D21","v":"Total Starts Female:"},{"$f":"SUM(E14:E19)","v":0},{"$f":"SUM(F14:F19)","v":0},0,0,0,0]
["Male",null,null,null,"Number of individual \nstarts",{"$f":"F11","v":"Surf Race"},{"$f":"G11","v":"Board Race"},"Ski race","Ocean(wo)man","2 km City Ocean Run"]
["Team + nr","Surname","Given name","Year of birth",null,1,2,3,4,5]
[null,null,null,"YYYY"]
[{"$f":"$C$3&\"-11\"","v":"-11"},null,null,null,{"$f":"SUM(F25:J25)","v":0},0,0,0,0,0]
[{"$f":"$C$3&\"-12\"","v":"-12"},null,null,null,0,0,0,0,0,0]
[{"$f":"$C$3&\"-13\"","v":"-13"},null,null,null,0,0,0,0,0,0]
[{"$f":"$C$3&\"-14\"","v":"-14"},null,null,null,0,0,0,0,0,0]
[{"$f":"$C$3&\"-15\"","v":"-15"},null,null,null,0,0,0,0,0,0]
[{"$f":"$C$3&\"-16\"","v":"-16"},null,null,null,0,0,0,0,0,0]
[]
[null,null,null,"Total Starts Male:",{"$f":"SUM(E25:E30)","v":0},0,0,0,0,0]
[]
[null,null,null,"Total Starts Female + Male:",{"$f":"SUM(E32+E21)","v":0},0,0,0,0,0]
[]
["Room for remarks towards the organization:"]
[]
[]
[null,null," ",null,null," "]

{"sheet":"Relay AB","index":5,"n_rows":80,"n_cols":10,"rows_kept":80,"cut":false,"hidden":false,"merged":[[8,2,8,7],[9,2,9,7],[2,2,2,7],[3,2,3,7],[4,2,4,7],[5,2,5,7],[6,2,6,7],[7,2,7,7]]}
[{"$f":"\"COW \"&Parameters!B1&\" Entry form competition: Relay AB ( -\"&Parameters!B10&\"/ \"&Parameters!B9&\"-\"&Parameters!B8&\")\"","v":"COW 2024 Entry form competition: Relay AB ( -2005/ 2006-2009)"}]
[null,"Last entry:",{"$f":"Parameters!$B$2","v":"16th of June"}]
[null,"Team-number:",{"$f":"\"A: \"&'CAT; A'!C3&\" | B: \"&'CAT; B'!C3","v":"A:  | B: "}]
[null,"Team-name:",{"$f":"IF('CAT; A'!C4=\"\",\"\",'CAT; A'!C4)","v":""}]
[null,"Country:",{"$f":"IF('CAT; A'!C5=\"\",\"\",'CAT; A'!C5)","v":""}]
[null,"Team-manager:",{"$f":"IF('CAT; A'!C6=\"\",\"\",'CAT; A'!C6)","v":""}]
[null,"e-mail:",{"$f":"IF('CAT; A'!C7=\"\",\"\",'CAT; A'!C7)","v":""}]
[null,"Phone:",{"$f":"IF('CAT; A'!C8=\"\",\"\",'CAT; A'!C8)","v":""}]
[null,"Address:",{"$f":"IF('CAT; A'!C9=\"\",\"\",'CAT; A'!C9)","v":""}]
[null,"ZipCode / Town:",{"$f":"IF('CAT; A'!C10=\"\",\"\",'CAT; A'!C10)","v":""}]
["Female",null,null,"Number of team starts","Board Rescue Race\n(2 participants)","Rescue Tube Rescue Race\n(4 participants)","Mixed Oceanman\n(2 male + 2 female)","Swim Teams \n(3 participants)"]
["Category","Team-nr + Relay-nr","Brigade-name"]
[{"$f":"\"A-\"&A11","v":"A-Female"}]
[{"$f":"\"Relay \"&$A$13","v":"Relay A-Female"},{"$f":"LEFT($A$13,3)&\"-\"&'CAT; A'!$C$3&\"-01\"","v":"A-F--01"},{"$f":"$C$4","v":""},{"$f":"SUM(E14:H14)","v":0},0,0,null,0]
["Relay A-Female",{"$f":"LEFT($A$13,3)&\"-\"&'CAT; A'!$C$3&\"-02\"","v":"A-F--02"},{"$f":"IF(SUM(E15:H15)>0,$C$4,\"\")","v":""},0,0,0,null,0]
["Relay A-Female",{"$f":"LEFT($A$13,3)&\"-\"&'CAT; A'!$C$3&\"-03\"","v":"A-F--03"},"",0,0,0,null,0]
["Relay A-Female",{"$f":"LEFT($A$13,3)&\"-\"&'CAT; A'!$C$3&\"-04\"","v":"A-F--04"},"",0,0,0,null,0]
["Relay A-Female",{"$f":"LEFT($A$13,3)&\"-\"&'CAT; A'!$C$3&\"-05\"","v":"A-F--05"},"",0,0,0,null,0]
["Relay A-Female",{"$f":"LEFT($A$13,3)&\"-\"&'CAT; A'!$C$3&\"-06\"","v":"A-F--06"},"",0,0,0,null,0]
["Relay A-Female",{"$f":"LEFT($A$13,3)&\"-\"&'CAT; A'!$C$3&\"-07\"","v":"A-F--07"},"",0,0,0,null,0]
["Relay A-Female",{"$f":"LEFT($A$13,3)&\"-\"&'CAT; A'!$C$3&\"-08\"","v":"A-F--08"},"",0,0,0,null,0]
[]
[null,null,null,{"$f":"SUM(D14:D21)","v":0},{"$f":"SUM(E14:E21)","v":0},{"$f":"SUM(F14:F21)","v":0},null,0]
["Male",null,null,"Number of team starts",{"$f":"E11","v":"Board Rescue Race\n(2 participants)"},{"$f":"F11","v":"Rescue Tube Rescue Race\n(4 participants)"},"Mixed Oceanman\n(2 male + 2 female)","Swim Teams \n(3 participants)"]
["Category","Team-nr + Relay-nr","Brigade-name"]
[{"$f":"\"A-\"&A24","v":"A-Male"}]
[{"$f":"\"Relay \"&$A$26","v":"Relay A-Male"},{"$f":"LEFT($A$26,3)&\"-\"&'CAT; A'!$C$3&\"-11\"","v":"A-M--11"},{"$f":"$C$4","v":""},{"$f":"SUM(E27:H27)","v":0},0,0,0,0,null,{"$f":"\"Cat \"&$A$26","v":"Cat A-Male"}]
["Relay A-Male",{"$f":"LEFT($A$26,3)&\"-\"&'CAT; A'!$C$3&\"-12\"","v":"A-M--12"},{"$f":"IF(SUM(E28:H28)>0,$C$4,\"\")","v":""},{"$f":"SUM(E28:H28)","v":0},0,0,0,0]
["Relay A-Male",{"$f":"LEFT($A$26,3)&\"-\"&'CAT; A'!$C$3&\"-13\"","v":"A-M--13"},"",0,0,0,0,0]
["Relay A-Male",{"$f":"LEFT($A$26,3)&\"-\"&'CAT; A'!$C$3&\"-14\"","v":"A-M--14"},"",0,0,0,0,0]
["Relay A-Male",{"$f":"LEFT($A$26,3)&\"-\"&'CAT; A'!$C$3&\"-15\"","v":"A-M--15"},"",0,0,0,0,0]
["Relay A-Male",{"$f":"LEFT($A$26,3)&\"-\"&'CAT; A'!$C$3&\"-16\"","v":"A-M--16"},"",0,0,0,0,0]
["Relay A-Male",{"$f":"LEFT($A$26,3)&\"-\"&'CAT; A'!$C$3&\"-17\"","v":"A-M--17"},"",0,0,0,0,0]
["Relay A-Male",{"$f":"LEFT($A$26,3)&\"-\"&'CAT; A'!$C$3&\"-18\"","v":"A-M--18"},"",0,0,0,0,0]
[]
[null,null,"Total Starts Male:",{"$f":"SUM(D27:D34)","v":0},{"$f":"SUM(E27:E34)","v":0},{"$f":"SUM(F27:F34)","v":0},0,0]
[]
[null,null,"Total Starts Female + Male:",{"$f":"SUM(D36+D23)","v":0},{"$f":"SUM(E36+E23)","v":0},{"$f":"SUM(F36+F23)","v":0},{"$f":"MAX(G23,G36)","v":0},{"$f":"SUM(H36+H23)","v":0}]
[]
["Female",null,null,"Number of team starts",{"$f":"E11","v":"Board Rescue Race\n(2 participants)"},{"$f":"F11","v":"Rescue Tube Rescue Race\n(4 participants)"},"Mixed Oceanman\n(2 male + 2 female)","Swim Teams \n(3 participants)"]
["Category","Team-nr + Relay-nr","Brigade-name"]
[{"$f":"\"B-\"&A40","v":"B-Female"}]
[{"$f":"\"Relay \"&$A$42","v":"Relay B-Female"},{"$f":"LEFT($A$42,3)&\"-\"&'CAT; B'!$C$3&\"-01\"","v":"B-F--01"},{"$f":"$C$4","v":""},{"$f":"SUM(E43:H43)","v":0},0,0,null,0]
["Relay B-Female",{"$f":"LEFT($A$42,3)&\"-\"&'CAT; B'!$C$3&\"-02\"","v":"B-F--02"},{"$f":"IF(SUM(E44:H44)>0,$C$4,\"\")","v":""},0,0,0,null,0]
["Relay B-Female",{"$f":"LEFT($A$42,3)&\"-\"&'CAT; B'!$C$3&\"-03\"","v":"B-F--03"},"",0,0,0,null,0]
["Relay B-Female",{"$f":"LEFT($A$42,3)&\"-\"&'CAT; B'!$C$3&\"-04\"","v":"B-F--04"},"",0,0,0,null,0]
["Relay B-Female",{"$f":"LEFT($A$42,3)&\"-\"&'CAT; B'!$C$3&\"-05\"","v":"B-F--05"},"",0,0,0,null,0]
["Relay B-Female",{"$f":"LEFT($A$42,3)&\"-\"&'CAT; B'!$C$3&\"-06\"","v":"B-F--06"},"",0,0,0,null,0]
["Relay B-Female",{"$f":"LEFT($A$42,3)&\"-\"&'CAT; B'!$C$3&\"-07\"","v":"B-F--07"},"",0,0,0,null,0]
["Relay B-Female",{"$f":"LEFT($A$42,3)&\"-\"&'CAT; B'!$C$3&\"-08\"","v":"B-F--08"},"",0,0,0,null,0]
[]
[null,null,null,{"$f":"SUM(D43:D50)","v":0},{"$f":"SUM(E43:E50)","v":0},{"$f":"SUM(F43:F50)","v":0},null,0]
["Male",null,null,"Number of team starts",{"$f":"E11","v":"Board Rescue Race\n(2 participants)"},{"$f":"F11","v":"Rescue Tube Rescue Race\n(4 participants)"},"Mixed Oceanman\n(2 male + 2 female)","Swim Teams \n(3 participants)"]
["Category","Team-nr + Relay-nr","Brigade-name"]
[{"$f":"\"B-\"&A53","v":"B-Male"}]
[{"$f":"\"Relay \"&$A$55","v":"Relay B-Male"},{"$f":"LEFT($A$55,3)&\"-\"&'CAT; B'!$C$3&\"-11\"","v":"B-M--11"},{"$f":"$C$4","v":""},{"$f":"SUM(E56:H56)","v":0},0,0,0,0]
["Relay B-Male",{"$f":"LEFT($A$55,3)&\"-\"&'CAT; B'!$C$3&\"-12\"","v":"B-M--12"},{"$f":"IF(SUM(E57:H57)>0,$C$4,\"\")","v":""},{"$f":"SUM(E57:H57)","v":0},0,0,0,0]
["Relay B-Male",{"$f":"LEFT($A$55,3)&\"-\"&'CAT; B'!$C$3&\"-13\"","v":"B-M--13"},"",0,0,0,0,0]
["Relay B-Male",{"$f":"LEFT($A$55,3)&\"-\"&'CAT; B'!$C$3&\"-14\"","v":"B-M--14"},"",0,0,0,0,0]
["Relay B-Male",{"$f":"LEFT($A$55,3)&\"-\"&'CAT; B'!$C$3&\"-15\"","v":"B-M--15"},"",0,0,0,0,0]
["Relay B-Male",{"$f":"LEFT($A$55,3)&\"-\"&'CAT; B'!$C$3&\"-16\"","v":"B-M--16"},"",0,0,0,0,0]
["Relay B-Male",{"$f":"LEFT($A$55,3)&\"-\"&'CAT; B'!$C$3&\"-17\"","v":"B-M--17"},"",0,0,0,0,0]
["Relay B-Male",{"$f":"LEFT($A$55,3)&\"-\"&'CAT; B'!$C$3&\"-18\"","v":"B-M--18"},"",0,0,0,0,0]
[]
[null,null,"Total Starts Male:",{"$f":"SUM(D56:D63)","v":0},{"$f":"SUM(E56:E63)","v":0},{"$f":"SUM(F56:F63)","v":0},0,0]
[]
[null,null,"Total Starts Female + Male:",{"$f":"SUM(D65+D52)","v":0},{"$f":"SUM(E65+E52)","v":0},{"$f":"SUM(F65+F52)","v":0},{"$f":"MAX(G52,G65)","v":0},{"$f":"SUM(H65+H52)","v":0}]
[]
["Room for remarks towards the organization:"]
[]
[]
[null,null," ",null,null," "]
[]
[]
[]
[]
[]
[]
[" "," "," "]
[" "," "," "]

{"sheet":"CAT; C","index":6,"n_rows":39,"n_cols":9,"rows_kept":39,"cut":false,"hidden":false,"merged":[[7,2,7,7],[8,2,8,7],[9,2,9,7],[2,2,2,7],[3,2,3,7],[4,2,4,7],[5,2,5,7],[6,2,6,7]]}
[{"$f":"\"COW \"&Parameters!$B$1&\" Entry form competition: CAT: C: year of birth \"&Parameters!$B$7&\" up to and incl. \"&Parameters!$B$6","v":"COW 2024 Entry form competition: CAT: C: year of birth 2010 up to and incl. 2012"}]
[null,"Last entry:",{"$f":"Parameters!$B$2","v":"16th of June"}]
[null,{"$f":"'CAT; A'!B3","v":"Team-number:"}]
[null,{"$f":"'CAT; A'!B4","v":"Team-name:"},{"$f":"IF('CAT; A'!C4=\"\",\"\",'CAT; A'!C4)","v":""}]
[null,{"$f":"'CAT; A'!B5","v":"Country:"},{"$f":"IF('CAT; A'!C5=\"\",\"\",'CAT; A'!C5)","v":""}]
[null,{"$f":"'CAT; A'!B6","v":"Team-manager:"},{"$f":"IF('CAT; A'!C6=\"\",\"\",'CAT; A'!C6)","v":""}]
[null,{"$f":"'CAT; A'!B7","v":"e-mail:"},{"$f":"IF('CAT; A'!C7=\"\",\"\",'CAT; A'!C7)","v":""}]
[null,{"$f":"'CAT; A'!B8","v":"Phone:"},{"$f":"IF('CAT; A'!C8=\"\",\"\",'CAT; A'!C8)","v":""}]
[null,{"$f":"'CAT; A'!B9","v":"Address:"},{"$f":"IF('CAT; A'!C9=\"\",\"\",'CAT; A'!C9)","v":""}]
[null,{"$f":"'CAT; A'!B10","v":"ZipCode / Town:"},{"$f":"IF('CAT; A'!C10=\"\",\"\",'CAT; A'!C10)","v":""}]
["Female",null,null,null,{"$f":"'CAT; A'!E11","v":"Number of individual \nstarts"},"Board Race","Run-Swim-Run","Ocean(wo)man R-S-B","750 m City Ocean Run"]
["Team + nr","Surname","Given name","Year of birth",null,1,2,3,4]
[null,null,null,"YYYY"]
[{"$f":"$C$3&\"-01\"","v":"-01"},null,null,null,{"$f":"SUM(F14:I14)","v":0},0,0,0,0]
[{"$f":"$C$3&\"-02\"","v":"-02"},null,null,null,0,0,0,0,0]
[{"$f":"$C$3&\"-03\"","v":"-03"},null,null,null,0,0,0,0,0]
[{"$f":"$C$3&\"-04\"","v":"-04"},null,null,null,0,0,0,0,0]
[{"$f":"$C$3&\"-05\"","v":"-05"},null,null,null,0,0,0,0,0]
[{"$f":"$C$3&\"-06\"","v":"-06"},null,null,null,0,0,0,0,0]
[]
[null,null,null,"Total Starts Female:",{"$f":"SUM(E14:E19)","v":0},{"$f":"SUM(F14:F19)","v":0},{"$f":"SUM(G14:G19)","v":0},{"$f":"SUM(H14:H19)","v":0},{"$f":"SUM(I14:I19)","v":0}]
["Male",null,null,null,{"$f":"'CAT; A'!E22","v":"Number of individual \nstarts"},{"$f":"F11","v":"Board Race"},"Run-Swim-Run",{"$f":"H11","v":"Ocean(wo)man R-S-B"},"750 m City Ocean Run"]
["Team + nr","Surname","Given name","Year of birth",null,1,2,3,4]
[null,null,null,"YYYY"]
[{"$f":"$C$3&\"-11\"","v":"-11"},null,null,null,{"$f":"SUM(F25:I25)","v":0},0,0,0,0]
[{"$f":"$C$3&\"-12\"","v":"-12"},null,null,null,0,0,0,0,0]
[{"$f":"$C$3&\"-13\"","v":"-13"},null,null,null,0,0,0,0,0]
[{"$f":"$C$3&\"-14\"","v":"-14"},null,null,null,0,0,0,0,0]
[{"$f":"$C$3&\"-15\"","v":"-15"},null,null,null,0,0,0,0,0]
[{"$f":"$C$3&\"-16\"","v":"-16"},null,null,null,0,0,0,0,0]
[]
[null,null,null,"Total Starts Male:",{"$f":"SUM(E25:E30)","v":0},{"$f":"SUM(F25:F30)","v":0},{"$f":"SUM(G25:G30)","v":0},{"$f":"SUM(H25:H30)","v":0},{"$f":"SUM(I25:I30)","v":0}]
[]
[null,null,null,"Total Starts Female + Male:",{"$f":"SUM(E32+E21)","v":0},{"$f":"SUM(F32+F21)","v":0},{"$f":"SUM(G32+G21)","v":0},{"$f":"SUM(H32+H21)","v":0},{"$f":"SUM(I32+I21)","v":0}]
[]
["Room for remarks towards the organization:"]
[]
[]
[null,null," ",null,null," "]

{"sheet":"CAT; D","index":7,"n_rows":39,"n_cols":9,"rows_kept":39,"cut":false,"hidden":false,"merged":[[7,2,7,7],[8,2,8,7],[9,2,9,7],[2,2,2,7],[3,2,3,7],[4,2,4,7],[5,2,5,7],[6,2,6,7]]}
[{"$f":"\"COW \"&Parameters!$B$1&\" Entry form competition: CAT: D: year of birth \"&Parameters!$B$5&\" up to and incl. \"&Parameters!$B$4","v":"COW 2024 Entry form competition: CAT: D: year of birth 2013 up to and incl. 2017"}]
[null,"Last entry:",{"$f":"Parameters!$B$2","v":"16th of June"}]
[null,{"$f":"'CAT; A'!B3","v":"Team-number:"}]
[null,{"$f":"'CAT; A'!B4","v":"Team-name:"},{"$f":"IF('CAT; C'!C4=\"\",\"\",'CAT; C'!C4)","v":""}]
[null,{"$f":"'CAT; A'!B5","v":"Country:"},{"$f":"IF('CAT; C'!C5=\"\",\"\",'CAT; C'!C5)","v":""}]
[null,{"$f":"'CAT; A'!B6","v":"Team-manager:"},{"$f":"IF('CAT; C'!C6=\"\",\"\",'CAT; C'!C6)","v":""}]
[null,{"$f":"'CAT; A'!B7","v":"e-mail:"},{"$f":"IF('CAT; C'!C7=\"\",\"\",'CAT; C'!C7)","v":""}]
[null,{"$f":"'CAT; A'!B8","v":"Phone:"},{"$f":"IF('CAT; C'!C8=\"\",\"\",'CAT; C'!C8)","v":""}]
[null,{"$f":"'CAT; A'!B9","v":"Address:"},{"$f":"IF('CAT; C'!C9=\"\",\"\",'CAT; C'!C9)","v":""}]
[null,{"$f":"'CAT; A'!B10","v":"ZipCode / Town:"},{"$f":"IF('CAT; C'!C10=\"\",\"\",'CAT; C'!C10)","v":""}]
["Female",null,null,null,{"$f":"'CAT; A'!E11","v":"Number of individual \nstarts"},{"$f":"'CAT; C'!F11","v":"Board Race"},{"$f":"'CAT; C'!G11","v":"Run-Swim-Run"},{"$f":"'CAT; C'!H11","v":"Ocean(wo)man R-S-B"},{"$f":"'CAT; C'!I11","v":"750 m City Ocean Run"}]
["Team + nr","Surname","Given name","Year of birth",null,1,2,3,4]
[null,null,null,"YYYY"]
[{"$f":"$C$3&\"-01\"","v":"-01"},null,null,null,{"$f":"SUM(F14:I14)","v":0},0,0,0,0]
[{"$f":"$C$3&\"-02\"","v":"-02"},null,null,null,0,0,0,0,0]
[{"$f":"$C$3&\"-03\"","v":"-03"},null,null,null,0,0,0,0,0]
[{"$f":"$C$3&\"-04\"","v":"-04"},null,null,null,0,0,0,0,0]
[{"$f":"$C$3&\"-05\"","v":"-05"},null,null,null,0,0,0,0,0]
[{"$f":"$C$3&\"-06\"","v":"-06"},null,null,null,0,0,0,0,0]
[]
[null,null,null,"Total Starts Female:",{"$f":"SUM(E14:E19)","v":0},{"$f":"SUM(F14:F19)","v":0},{"$f":"SUM(G14:G19)","v":0},{"$f":"SUM(H14:H19)","v":0},{"$f":"SUM(I14:I19)","v":0}]
["Male",null,null,null,{"$f":"'CAT; A'!E22","v":"Number of individual \nstarts"},{"$f":"F11","v":"Board Race"},{"$f":"G11","v":"Run-Swim-Run"},{"$f":"H11","v":"Ocean(wo)man R-S-B"},"750 m City Ocean Run"]
["Team + nr","Surname","Given name","Year of birth",null,1,2,3,4]
[null,null,null,"YYYY"]
[{"$f":"$C$3&\"-11\"","v":"-11"},null,null,null,{"$f":"SUM(F25:I25)","v":0},0,0,0,0]
[{"$f":"$C$3&\"-12\"","v":"-12"},null,null,null,0,0,0,0,0]
[{"$f":"$C$3&\"-13\"","v":"-13"},null,null,null,0,0,0,0,0]
[{"$f":"$C$3&\"-14\"","v":"-14"},null,null,null,0,0,0,0,0]
[{"$f":"$C$3&\"-15\"","v":"-15"},null,null,null,0,0,0,0,0]
[{"$f":"$C$3&\"-16\"","v":"-16"},null,null,null,0,0,0,0,0]
[]
[null,null,null,"Total Starts Male:",{"$f":"SUM(E25:E30)","v":0},{"$f":"SUM(F25:F30)","v":0},{"$f":"SUM(G25:G30)","v":0},{"$f":"SUM(H25:H30)","v":0},{"$f":"SUM(I25:I30)","v":0}]
[]
[null,null,null,"Total Starts Female + Male:",{"$f":"SUM(E32+E21)","v":0},{"$f":"SUM(F32+F21)","v":0},{"$f":"SUM(G32+G21)","v":0},{"$f":"SUM(H32+H21)","v":0},{"$f":"SUM(I32+I21)","v":0}]
[]
["Room for remarks towards the organization:"]
[]
[]
[null,null," ",null,null," "]

{"sheet":"Relay CD","index":8,"n_rows":80,"n_cols":6,"rows_kept":80,"cut":false,"hidden":false,"merged":[[8,2,8,7],[9,2,9,7],[2,2,2,7],[3,2,3,7],[4,2,4,7],[5,2,5,7],[6,2,6,7],[7,2,7,7]]}
[{"$f":"\"COW \"&Parameters!$B$1&\" Entry form competition: Relay CD (\"&Parameters!$B$7&\"-\"&Parameters!$B$6&\" / \"&Parameters!$B$5&\"-\"&Parameters!$B$4&\")\"","v":"COW 2024 Entry form competition: Relay CD (2010-2012 / 2013-2017)"}]
[null,"Last entry:",{"$f":"Parameters!$B$2","v":"16th of June"}]
[null,"Team-number:",{"$f":"\"C: \"&'CAT; C'!C3&\" | D: \"&'CAT; D'!C3","v":"C:  | D: "}]
[null,"Team-name:",{"$f":"IF('CAT; C'!C4=\"\",\"\",'CAT; C'!C4)","v":""}]
[null,"Country:",{"$f":"IF('CAT; C'!C5=\"\",\"\",'CAT; C'!C5)","v":""}]
[null,"Team-manager:",{"$f":"IF('CAT; C'!C6=\"\",\"\",'CAT; C'!C6)","v":""}]
[null,"e-mail:",{"$f":"IF('CAT; C'!C7=\"\",\"\",'CAT; C'!C7)","v":""}]
[null,"Phone:",{"$f":"IF('CAT; C'!C8=\"\",\"\",'CAT; C'!C8)","v":""}]
[null,"Address:",{"$f":"IF('CAT; C'!C9=\"\",\"\",'CAT; C'!C9)","v":""}]
[null,"ZipCode / Town:",{"$f":"IF('CAT; C'!C10=\"\",\"\",'CAT; C'!C10)","v":""}]
["Female",null,null,"Number of team starts","Board Rescue Race\n(2 participants)","Camaron Relay\n(4 participants)"]
["Category","Team-nr + Relay-nr","Brigade-name",null,6,7]
[{"$f":"\"C-\"&A11","v":"C-Female"}]
[{"$f":"\"Relay \"&$A$13","v":"Relay C-Female"},{"$f":"LEFT($A$13,3)&\"-\"&'CAT; C'!$C$3&\"-01\"","v":"C-F--01"},{"$f":"$C$4","v":""},{"$f":"SUM(E14:F14)","v":0},0,0]
["Relay C-Female",{"$f":"LEFT($A$13,3)&\"-\"&'CAT; C'!$C$3&\"-02\"","v":"C-F--02"},{"$f":"IF(SUM(E15:F15)>0,$C$4,\"\")","v":""},0,0,0]
["Relay C-Female",{"$f":"LEFT($A$13,3)&\"-\"&'CAT; C'!$C$3&\"-03\"","v":"C-F--03"},"",0,0,0]
["Relay C-Female",{"$f":"LEFT($A$13,3)&\"-\"&'CAT; C'!$C$3&\"-04\"","v":"C-F--04"},"",0,0,0]
["Relay C-Female",{"$f":"LEFT($A$13,3)&\"-\"&'CAT; C'!$C$3&\"-05\"","v":"C-F--05"},"",0,0,0]
["Relay C-Female",{"$f":"LEFT($A$13,3)&\"-\"&'CAT; C'!$C$3&\"-06\"","v":"C-F--06"},"",0,0,0]
["Relay C-Female",{"$f":"LEFT($A$13,3)&\"-\"&'CAT; C'!$C$3&\"-07\"","v":"C-F--07"},"",0,0,0]
["Relay C-Female",{"$f":"LEFT($A$13,3)&\"-\"&'CAT; C'!$C$3&\"-08\"","v":"C-F--08"},"",0,0,0]
[]
[null,null,null,{"$f":"SUM(D14:D21)","v":0},{"$f":"SUM(E14:E21)","v":0},{"$f":"SUM(F14:F21)","v":0}]
["Male",null,null,"Number of team starts",{"$f":"E11","v":"Board Rescue Race\n(2 participants)"},{"$f":"F11","v":"Camaron Relay\n(4 participants)"}]
["Category","Team-nr + Relay-nr","Brigade-name",null,6,7]
[{"$f":"\"C-\"&A24","v":"C-Male"}]
[{"$f":"\"Relay \"&$A$26","v":"Relay C-Male"},{"$f":"LEFT($A$26,3)&\"-\"&'CAT; C'!$C$3&\"-11\"","v":"C-M--11"},{"$f":"$C$4","v":""},{"$f":"SUM(E27:F27)","v":0},0,0]
["Relay C-Male",{"$f":"LEFT($A$26,3)&\"-\"&'CAT; C'!$C$3&\"-12\"","v":"C-M--12"},{"$f":"IF(SUM(E28:F28)>0,$C$4,\"\")","v":""},0,0,0]
["Relay C-Male",{"$f":"LEFT($A$26,3)&\"-\"&'CAT; C'!$C$3&\"-13\"","v":"C-M--13"},"",0,0,0]
["Relay C-Male",{"$f":"LEFT($A$26,3)&\"-\"&'CAT; C'!$C$3&\"-14\"","v":"C-M--14"},"",0,0,0]
["Relay C-Male",{"$f":"LEFT($A$26,3)&\"-\"&'CAT; C'!$C$3&\"-15\"","v":"C-M--15"},"",0,0,0]
["Relay C-Male",{"$f":"LEFT($A$26,3)&\"-\"&'CAT; C'!$C$3&\"-16\"","v":"C-M--16"},"",0,0,0]
["Relay C-Male",{"$f":"LEFT($A$26,3)&\"-\"&'CAT; C'!$C$3&\"-17\"","v":"C-M--17"},"",0,0,0]
["Relay C-Male",{"$f":"LEFT($A$26,3)&\"-\"&'CAT; C'!$C$3&\"-18\"","v":"C-M--18"},"",0,0,0]
[]
[null,null,"Total Starts Male:",{"$f":"SUM(D27:D34)","v":0},{"$f":"SUM(E27:E34)","v":0},{"$f":"SUM(F27:F34)","v":0}]
[]
[null,null,"Total Starts Female + Male:",{"$f":"SUM(D36+D23)","v":0},{"$f":"SUM(E36+E23)","v":0},{"$f":"SUM(F36+F23)","v":0}]
[]
["Female",null,null,"Number of team starts",{"$f":"E11","v":"Board Rescue Race\n(2 participants)"},{"$f":"F11","v":"Camaron Relay\n(4 participants)"}]
["Category","Team-nr + Relay-nr","Brigade-name",null,6,7]
[{"$f":"\"D-\"&A40","v":"D-Female"}]
[{"$f":"\"Relay \"&$A$42","v":"Relay D-Female"},{"$f":"LEFT($A$42,3)&\"-\"&'CAT; D'!$C$3&\"-01\"","v":"D-F--01"},{"$f":"$C$4","v":""},{"$f":"SUM(E43:F43)","v":0},0,0]
["Relay D-Female",{"$f":"LEFT($A$42,3)&\"-\"&'CAT; D'!$C$3&\"-02\"","v":"D-F--02"},{"$f":"IF(SUM(E44:F44)>0,$C$4,\"\")","v":""},0,0,0]
["Relay D-Female",{"$f":"LEFT($A$42,3)&\"-\"&'CAT; D'!$C$3&\"-03\"","v":"D-F--03"},"",0,0,0]
["Relay D-Female",{"$f":"LEFT($A$42,3)&\"-\"&'CAT; D'!$C$3&\"-04\"","v":"D-F--04"},"",0,0,0]
["Relay D-Female",{"$f":"LEFT($A$42,3)&\"-\"&'CAT; D'!$C$3&\"-05\"","v":"D-F--05"},"",0,0,0]
["Relay D-Female",{"$f":"LEFT($A$42,3)&\"-\"&'CAT; D'!$C$3&\"-06\"","v":"D-F--06"},"",0,0,0]
["Relay D-Female",{"$f":"LEFT($A$42,3)&\"-\"&'CAT; D'!$C$3&\"-07\"","v":"D-F--07"},"",0,0,0]
["Relay D-Female",{"$f":"LEFT($A$42,3)&\"-\"&'CAT; D'!$C$3&\"-08\"","v":"D-F--08"},"",0,0,0]
[]
[null,null,null,{"$f":"SUM(D43:D50)","v":0},{"$f":"SUM(E43:E50)","v":0},{"$f":"SUM(F43:F50)","v":0}]
["Male",null,null,"Number of team starts",{"$f":"E11","v":"Board Rescue Race\n(2 participants)"},{"$f":"F11","v":"Camaron Relay\n(4 participants)"}]
["Category","Team-nr + Relay-nr","Brigade-name",null,6,7]
[{"$f":"\"D-\"&A53","v":"D-Male"}]
[{"$f":"\"Relay \"&$A$55","v":"Relay D-Male"},{"$f":"LEFT($A$55,3)&\"-\"&'CAT; D'!$C$3&\"-11\"","v":"D-M--11"},{"$f":"$C$4","v":""},{"$f":"SUM(E56:F56)","v":0},0,0]
["Relay D-Male",{"$f":"LEFT($A$55,3)&\"-\"&'CAT; D'!$C$3&\"-12\"","v":"D-M--12"},{"$f":"IF(SUM(E57:F57)>0,$C$4,\"\")","v":""},0,0,0]
["Relay D-Male",{"$f":"LEFT($A$55,3)&\"-\"&'CAT; D'!$C$3&\"-13\"","v":"D-M--13"},"",0,0,0]
["Relay D-Male",{"$f":"LEFT($A$55,3)&\"-\"&'CAT; D'!$C$3&\"-14\"","v":"D-M--14"},"",0,0,0]
["Relay D-Male",{"$f":"LEFT($A$55,3)&\"-\"&'CAT; D'!$C$3&\"-15\"","v":"D-M--15"},"",0,0,0]
["Relay D-Male",{"$f":"LEFT($A$55,3)&\"-\"&'CAT; D'!$C$3&\"-16\"","v":"D-M--16"},"",0,0,0]
["Relay D-Male",{"$f":"LEFT($A$55,3)&\"-\"&'CAT; D'!$C$3&\"-17\"","v":"D-M--17"},"",0,0,0]
["Relay D-Male",{"$f":"LEFT($A$55,3)&\"-\"&'CAT; D'!$C$3&\"-18\"","v":"D-M--18"},"",0,0,0]
[]
[null,null,"Total Starts Male:",{"$f":"SUM(D56:D63)","v":0},{"$f":"SUM(E56:E63)","v":0},{"$f":"SUM(F56:F63)","v":0}]
[]
[null,null,"Total Starts Female + Male:",{"$f":"SUM(D65+D52)","v":0},{"$f":"SUM(E65+E52)","v":0},{"$f":"SUM(F65+F52)","v":0}]
[]
["Room for remarks towards the organization:"]
[]
[]
[null,null," ",null,null," "]
[]
[]
[]
[]
[]
[]
[" "," "," "]
[" "," "," "]

{"sheet":"Transfer","index":9,"n_rows":158,"n_cols":26,"rows_kept":158,"cut":false,"hidden":true,"merged":[[1,19,1,20],[1,17,1,18],[1,7,1,8],[1,9,1,10],[1,11,1,12],[1,13,1,14],[1,15,1,16]]}
["Transfer naar sheet 2: Deelnemende brigades"]
[null,"Team-numbers","Team-name","Country","E-mail","Total # athletes","Total # teams","Cat A",null,"Cat B",null,"Cat M",null,"Relay AB",null," Cat C",null,"Cat D",null,"Relay CD",null,"Costs Athl./Teams","Costs\nLunches","Total costs","Payment","Payment date"]
[null,null,null,null,null,null,null,"F","M","F","M","F","M","F","M","F","M","F","M","F","M"]
["Brigade",{"$f":"'CAT; A'!$C$3&\"+\"&'CAT; B'!$C$3&\"+\"&'CAT; M'!$C$3&\"+\"&'CAT; C'!$C$3&\"+\"&'CAT; D'!$C$3","v":"++++"},{"$f":"'CAT; A'!$C$4","v":0},{"$f":"'CAT; A'!$C$5","v":0},{"$f":"'CAT; A'!$C$7","v":0},{"$f":"SUM('Payment info'!$B$4:$B$5)","v":0},{"$f":"SUM('Payment info'!$C$4:$C$5)","v":0},{"$f":"'CAT; A'!$E$21","v":0},{"$f":"'CAT; A'!$E$32","v":0},{"$f":"'CAT; B'!$E$21","v":0},{"$f":"'CAT; B'!$E$32","v":0},{"$f":"'CAT; M'!$E$21","v":0},{"$f":"'CAT; M'!$E$32","v":0},{"$f":"'Relay AB'!D23+'Relay AB'!D52","v":0},{"$f":"'Relay AB'!D36+'Relay AB'!D65","v":0},{"$f":"'CAT; C'!$E$21","v":0},{"$f":"'CAT; C'!$E$32","v":0},{"$f":"'CAT; D'!$E$21","v":0},{"$f":"'CAT; D'!$E$32","v":0},{"$f":"'Relay CD'!D23+'Relay CD'!D52","v":0},{"$f":"'Relay CD'!D36+'Relay CD'!D65","v":0},{"$f":"SUM('Payment info'!D4:D5)","v":0},{"$f":"'Payment info'!D6","v":0},{"$f":"SUM(V4:W4)","v":0}]
[]
[]
["Transfer naar sheet 3ABM: Uitslagen individueel"]
[null,null,null,null,null,{"$f":"'CAT; A'!E11","v":"Number of individual \nstarts"},{"$f":"'CAT; A'!F11","v":"Surf Race"},{"$f":"'CAT; A'!G11","v":"Board Race"},{"$f":"'CAT; A'!H11","v":"Ski race"},{"$f":"'CAT; A'!I11","v":"Ocean(wo)man"},{"$f":"'CAT; A'!J11","v":"2 km City Ocean Run"}]
["Category","Team + nr","Surname","Given name","Year of birth",null,1,2,3,4,5]
["Cat A-Female",{"$f":"IF('CAT; A'!A14=\"\",\"\",'CAT; A'!A14)","v":"-01"},{"$f":"IF('CAT; A'!B14=\"\",\"\",'CAT; A'!B14)","v":""},{"$f":"IF('CAT; A'!C14=\"\",\"\",'CAT; A'!C14)","v":""},{"$f":"IF('CAT; A'!D14=\"\",\"\",'CAT; A'!D14)","v":""},{"$f":"IF('CAT; A'!E14=\"\",\"\",'CAT; A'!E14)","v":0},{"$f":"IF('CAT; A'!F14=\"\",\"\",'CAT; A'!F14)","v":0},{"$f":"IF('CAT; A'!G14=\"\",\"\",'CAT; A'!G14)","v":0},{"$f":"IF('CAT; A'!H14=\"\",\"\",'CAT; A'!H14)","v":0},{"$f":"IF('CAT; A'!I14=\"\",\"\",'CAT; A'!I14)","v":0},{"$f":"IF('CAT; A'!J14=\"\",\"\",'CAT; A'!J14)","v":0}]
["Cat A-Female",{"$f":"IF('CAT; A'!A15=\"\",\"\",'CAT; A'!A15)","v":"-02"},{"$f":"IF('CAT; A'!B15=\"\",\"\",'CAT; A'!B15)","v":""},{"$f":"IF('CAT; A'!C15=\"\",\"\",'CAT; A'!C15)","v":""},{"$f":"IF('CAT; A'!D15=\"\",\"\",'CAT; A'!D15)","v":""},{"$f":"IF('CAT; A'!E15=\"\",\"\",'CAT; A'!E15)","v":0},{"$f":"IF('CAT; A'!F15=\"\",\"\",'CAT; A'!F15)","v":0},{"$f":"IF('CAT; A'!G15=\"\",\"\",'CAT; A'!G15)","v":0},{"$f":"IF('CAT; A'!H15=\"\",\"\",'CAT; A'!H15)","v":0},{"$f":"IF('CAT; A'!I15=\"\",\"\",'CAT; A'!I15)","v":0},{"$f":"IF('CAT; A'!J15=\"\",\"\",'CAT; A'!J15)","v":0}]
["Cat A-Female",{"$f":"IF('CAT; A'!A16=\"\",\"\",'CAT; A'!A16)","v":"-03"},{"$f":"IF('CAT; A'!B16=\"\",\"\",'CAT; A'!B16)","v":""},{"$f":"IF('CAT; A'!C16=\"\",\"\",'CAT; A'!C16)","v":""},{"$f":"IF('CAT; A'!D16=\"\",\"\",'CAT; A'!D16)","v":""},{"$f":"IF('CAT; A'!E16=\"\",\"\",'CAT; A'!E16)","v":0},{"$f":"IF('CAT; A'!F16=\"\",\"\",'CAT; A'!F16)","v":0},{"$f":"IF('CAT; A'!G16=\"\",\"\",'CAT; A'!G16)","v":0},{"$f":"IF('CAT; A'!H16=\"\",\"\",'CAT; A'!H16)","v":0},{"$f":"IF('CAT; A'!I16=\"\",\"\",'CAT; A'!I16)","v":0},{"$f":"IF('CAT; A'!J16=\"\",\"\",'CAT; A'!J16)","v":0}]
["Cat A-Female",{"$f":"IF('CAT; A'!A17=\"\",\"\",'CAT; A'!A17)","v":"-04"},{"$f":"IF('CAT; A'!B17=\"\",\"\",'CAT; A'!B17)","v":""},{"$f":"IF('CAT; A'!C17=\"\",\"\",'CAT; A'!C17)","v":""},{"$f":"IF('CAT; A'!D17=\"\",\"\",'CAT; A'!D17)","v":""},{"$f":"IF('CAT; A'!E17=\"\",\"\",'CAT; A'!E17)","v":0},{"$f":"IF('CAT; A'!F17=\"\",\"\",'CAT; A'!F17)","v":0},{"$f":"IF('CAT; A'!G17=\"\",\"\",'CAT; A'!G17)","v":0},{"$f":"IF('CAT; A'!H17=\"\",\"\",'CAT; A'!H17)","v":0},{"$f":"IF('CAT; A'!I17=\"\",\"\",'CAT; A'!I17)","v":0},{"$f":"IF('CAT; A'!J17=\"\",\"\",'CAT; A'!J17)","v":0}]
["Cat A-Female",{"$f":"IF('CAT; A'!A18=\"\",\"\",'CAT; A'!A18)","v":"-05"},{"$f":"IF('CAT; A'!B18=\"\",\"\",'CAT; A'!B18)","v":""},{"$f":"IF('CAT; A'!C18=\"\",\"\",'CAT; A'!C18)","v":""},{"$f":"IF('CAT; A'!D18=\"\",\"\",'CAT; A'!D18)","v":""},{"$f":"IF('CAT; A'!E18=\"\",\"\",'CAT; A'!E18)","v":0},{"$f":"IF('CAT; A'!F18=\"\",\"\",'CAT; A'!F18)","v":0},{"$f":"IF('CAT; A'!G18=\"\",\"\",'CAT; A'!G18)","v":0},{"$f":"IF('CAT; A'!H18=\"\",\"\",'CAT; A'!H18)","v":0},{"$f":"IF('CAT; A'!I18=\"\",\"\",'CAT; A'!I18)","v":0},{"$f":"IF('CAT; A'!J18=\"\",\"\",'CAT; A'!J18)","v":0}]
["Cat A-Female",{"$f":"IF('CAT; A'!A19=\"\",\"\",'CAT; A'!A19)","v":"-06"},{"$f":"IF('CAT; A'!B19=\"\",\"\",'CAT; A'!B19)","v":""},{"$f":"IF('CAT; A'!C19=\"\",\"\",'CAT; A'!C19)","v":""},{"$f":"IF('CAT; A'!D19=\"\",\"\",'CAT; A'!D19)","v":""},{"$f":"IF('CAT; A'!E19=\"\",\"\",'CAT; A'!E19)","v":0},{"$f":"IF('CAT; A'!F19=\"\",\"\",'CAT; A'!F19)","v":0},{"$f":"IF('CAT; A'!G19=\"\",\"\",'CAT; A'!G19)","v":0},{"$f":"IF('CAT; A'!H19=\"\",\"\",'CAT; A'!H19)","v":0},{"$f":"IF('CAT; A'!I19=\"\",\"\",'CAT; A'!I19)","v":0},{"$f":"IF('CAT; A'!J19=\"\",\"\",'CAT; A'!J19)","v":0}]
[]
["Cat A-Male",{"$f":"IF('CAT; A'!A25=\"\",\"\",'CAT; A'!A25)","v":"-11"},{"$f":"IF('CAT; A'!B25=\"\",\"\",'CAT; A'!B25)","v":""},{"$f":"IF('CAT; A'!C25=\"\",\"\",'CAT; A'!C25)","v":""},{"$f":"IF('CAT; A'!D25=\"\",\"\",'CAT; A'!D25)","v":""},{"$f":"IF('CAT; A'!E25=\"\",\"\",'CAT; A'!E25)","v":0},{"$f":"IF('CAT; A'!F25=\"\",\"\",'CAT; A'!F25)","v":0},{"$f":"IF('CAT; A'!G25=\"\",\"\",'CAT; A'!G25)","v":0},{"$f":"IF('CAT; A'!H25=\"\",\"\",'CAT; A'!H25)","v":0},{"$f":"IF('CAT; A'!I25=\"\",\"\",'CAT; A'!I25)","v":0},{"$f":"IF('CAT; A'!J25=\"\",\"\",'CAT; A'!J25)","v":0}]
["Cat A-Male",{"$f":"IF('CAT; A'!A26=\"\",\"\",'CAT; A'!A26)","v":"-12"},{"$f":"IF('CAT; A'!B26=\"\",\"\",'CAT; A'!B26)","v":""},{"$f":"IF('CAT; A'!C26=\"\",\"\",'CAT; A'!C26)","v":""},{"$f":"IF('CAT; A'!D26=\"\",\"\",'CAT; A'!D26)","v":""},{"$f":"IF('CAT; A'!E26=\"\",\"\",'CAT; A'!E26)","v":0},{"$f":"IF('CAT; A'!F26=\"\",\"\",'CAT; A'!F26)","v":0},{"$f":"IF('CAT; A'!G26=\"\",\"\",'CAT; A'!G26)","v":0},{"$f":"IF('CAT; A'!H26=\"\",\"\",'CAT; A'!H26)","v":0},{"$f":"IF('CAT; A'!I26=\"\",\"\",'CAT; A'!I26)","v":0},{"$f":"IF('CAT; A'!J26=\"\",\"\",'CAT; A'!J26)","v":0}]
["Cat A-Male",{"$f":"IF('CAT; A'!A27=\"\",\"\",'CAT; A'!A27)","v":"-13"},{"$f":"IF('CAT; A'!B27=\"\",\"\",'CAT; A'!B27)","v":""},{"$f":"IF('CAT; A'!C27=\"\",\"\",'CAT; A'!C27)","v":""},{"$f":"IF('CAT; A'!D27=\"\",\"\",'CAT; A'!D27)","v":""},{"$f":"IF('CAT; A'!E27=\"\",\"\",'CAT; A'!E27)","v":0},{"$f":"IF('CAT; A'!F27=\"\",\"\",'CAT; A'!F27)","v":0},{"$f":"IF('CAT; A'!G27=\"\",\"\",'CAT; A'!G27)","v":0},{"$f":"IF('CAT; A'!H27=\"\",\"\",'CAT; A'!H27)","v":0},{"$f":"IF('CAT; A'!I27=\"\",\"\",'CAT; A'!I27)","v":0},{"$f":"IF('CAT; A'!J27=\"\",\"\",'CAT; A'!J27)","v":0}]
["Cat A-Male",{"$f":"IF('CAT; A'!A28=\"\",\"\",'CAT; A'!A28)","v":"-14"},{"$f":"IF('CAT; A'!B28=\"\",\"\",'CAT; A'!B28)","v":""},{"$f":"IF('CAT; A'!C28=\"\",\"\",'CAT; A'!C28)","v":""},{"$f":"IF('CAT; A'!D28=\"\",\"\",'CAT; A'!D28)","v":""},{"$f":"IF('CAT; A'!E28=\"\",\"\",'CAT; A'!E28)","v":0},{"$f":"IF('CAT; A'!F28=\"\",\"\",'CAT; A'!F28)","v":0},{"$f":"IF('CAT; A'!G28=\"\",\"\",'CAT; A'!G28)","v":0},{"$f":"IF('CAT; A'!H28=\"\",\"\",'CAT; A'!H28)","v":0},{"$f":"IF('CAT; A'!I28=\"\",\"\",'CAT; A'!I28)","v":0},{"$f":"IF('CAT; A'!J28=\"\",\"\",'CAT; A'!J28)","v":0}]
["Cat A-Male",{"$f":"IF('CAT; A'!A29=\"\",\"\",'CAT; A'!A29)","v":"-15"},{"$f":"IF('CAT; A'!B29=\"\",\"\",'CAT; A'!B29)","v":""},{"$f":"IF('CAT; A'!C29=\"\",\"\",'CAT; A'!C29)","v":""},{"$f":"IF('CAT; A'!D29=\"\",\"\",'CAT; A'!D29)","v":""},{"$f":"IF('CAT; A'!E29=\"\",\"\",'CAT; A'!E29)","v":0},{"$f":"IF('CAT; A'!F29=\"\",\"\",'CAT; A'!F29)","v":0},{"$f":"IF('CAT; A'!G29=\"\",\"\",'CAT; A'!G29)","v":0},{"$f":"IF('CAT; A'!H29=\"\",\"\",'CAT; A'!H29)","v":0},{"$f":"IF('CAT; A'!I29=\"\",\"\",'CAT; A'!I29)","v":0},{"$f":"IF('CAT; A'!J29=\"\",\"\",'CAT; A'!J29)","v":0}]
["Cat A-Male",{"$f":"IF('CAT; A'!A30=\"\",\"\",'CAT; A'!A30)","v":"-16"},{"$f":"IF('CAT; A'!B30=\"\",\"\",'CAT; A'!B30)","v":""},{"$f":"IF('CAT; A'!C30=\"\",\"\",'CAT; A'!C30)","v":""},{"$f":"IF('CAT; A'!D30=\"\",\"\",'CAT; A'!D30)","v":""},{"$f":"IF('CAT; A'!E30=\"\",\"\",'CAT; A'!E30)","v":0},{"$f":"IF('CAT; A'!F30=\"\",\"\",'CAT; A'!F30)","v":0},{"$f":"IF('CAT; A'!G30=\"\",\"\",'CAT; A'!G30)","v":0},{"$f":"IF('CAT; A'!H30=\"\",\"\",'CAT; A'!H30)","v":0},{"$f":"IF('CAT; A'!I30=\"\",\"\",'CAT; A'!I30)","v":0},{"$f":"IF('CAT; A'!J30=\"\",\"\",'CAT; A'!J30)","v":0}]
[]
["Cat B-Female",{"$f":"IF('CAT; B'!A14=\"\",\"\",'CAT; B'!A14)","v":"-01"},{"$f":"IF('CAT; B'!B14=\"\",\"\",'CAT; B'!B14)","v":""},{"$f":"IF('CAT; B'!C14=\"\",\"\",'CAT; B'!C14)","v":""},{"$f":"IF('CAT; B'!D14=\"\",\"\",'CAT; B'!D14)","v":""},{"$f":"IF('CAT; B'!E14=\"\",\"\",'CAT; B'!E14)","v":0},{"$f":"IF('CAT; B'!F14=\"\",\"\",'CAT; B'!F14)","v":0},{"$f":"IF('CAT; B'!G14=\"\",\"\",'CAT; B'!G14)","v":0},{"$f":"IF('CAT; B'!H14=\"\",\"\",'CAT; B'!H14)","v":0},{"$f":"IF('CAT; B'!I14=\"\",\"\",'CAT; B'!I14)","v":0},{"$f":"IF('CAT; B'!J14=\"\",\"\",'CAT; B'!J14)","v":0}]
["Cat B-Female",{"$f":"IF('CAT; B'!A15=\"\",\"\",'CAT; B'!A15)","v":"-02"},{"$f":"IF('CAT; B'!B15=\"\",\"\",'CAT; B'!B15)","v":""},{"$f":"IF('CAT; B'!C15=\"\",\"\",'CAT; B'!C15)","v":""},{"$f":"IF('CAT; B'!D15=\"\",\"\",'CAT; B'!D15)","v":""},{"$f":"IF('CAT; B'!E15=\"\",\"\",'CAT; B'!E15)","v":0},{"$f":"IF('CAT; B'!F15=\"\",\"\",'CAT; B'!F15)","v":0},{"$f":"IF('CAT; B'!G15=\"\",\"\",'CAT; B'!G15)","v":0},{"$f":"IF('CAT; B'!H15=\"\",\"\",'CAT; B'!H15)","v":0},{"$f":"IF('CAT; B'!I15=\"\",\"\",'CAT; B'!I15)","v":0},{"$f":"IF('CAT; B'!J15=\"\",\"\",'CAT; B'!J15)","v":0}]
["Cat B-Female",{"$f":"IF('CAT; B'!A16=\"\",\"\",'CAT; B'!A16)","v":"-03"},{"$f":"IF('CAT; B'!B16=\"\",\"\",'CAT; B'!B16)","v":""},{"$f":"IF('CAT; B'!C16=\"\",\"\",'CAT; B'!C16)","v":""},{"$f":"IF('CAT; B'!D16=\"\",\"\",'CAT; B'!D16)","v":""},{"$f":"IF('CAT; B'!E16=\"\",\"\",'CAT; B'!E16)","v":0},{"$f":"IF('CAT; B'!F16=\"\",\"\",'CAT; B'!F16)","v":0},{"$f":"IF('CAT; B'!G16=\"\",\"\",'CAT; B'!G16)","v":0},{"$f":"IF('CAT; B'!H16=\"\",\"\",'CAT; B'!H16)","v":0},{"$f":"IF('CAT; B'!I16=\"\",\"\",'CAT; B'!I16)","v":0},{"$f":"IF('CAT; B'!J16=\"\",\"\",'CAT; B'!J16)","v":0}]
["Cat B-Female",{"$f":"IF('CAT; B'!A17=\"\",\"\",'CAT; B'!A17)","v":"-04"},{"$f":"IF('CAT; B'!B17=\"\",\"\",'CAT; B'!B17)","v":""},{"$f":"IF('CAT; B'!C17=\"\",\"\",'CAT; B'!C17)","v":""},{"$f":"IF('CAT; B'!D17=\"\",\"\",'CAT; B'!D17)","v":""},{"$f":"IF('CAT; B'!E17=\"\",\"\",'CAT; B'!E17)","v":0},{"$f":"IF('CAT; B'!F17=\"\",\"\",'CAT; B'!F17)","v":0},{"$f":"IF('CAT; B'!G17=\"\",\"\",'CAT; B'!G17)","v":0},{"$f":"IF('CAT; B'!H17=\"\",\"\",'CAT; B'!H17)","v":0},{"$f":"IF('CAT; B'!I17=\"\",\"\",'CAT; B'!I17)","v":0},{"$f":"IF('CAT; B'!J17=\"\",\"\",'CAT; B'!J17)","v":0}]
["Cat B-Female",{"$f":"IF('CAT; B'!A18=\"\",\"\",'CAT; B'!A18)","v":"-05"},{"$f":"IF('CAT; B'!B18=\"\",\"\",'CAT; B'!B18)","v":""},{"$f":"IF('CAT; B'!C18=\"\",\"\",'CAT; B'!C18)","v":""},{"$f":"IF('CAT; B'!D18=\"\",\"\",'CAT; B'!D18)","v":""},{"$f":"IF('CAT; B'!E18=\"\",\"\",'CAT; B'!E18)","v":0},{"$f":"IF('CAT; B'!F18=\"\",\"\",'CAT; B'!F18)","v":0},{"$f":"IF('CAT; B'!G18=\"\",\"\",'CAT; B'!G18)","v":0},{"$f":"IF('CAT; B'!H18=\"\",\"\",'CAT; B'!H18)","v":0},{"$f":"IF('CAT; B'!I18=\"\",\"\",'CAT; B'!I18)","v":0},{"$f":"IF('CAT; B'!J18=\"\",\"\",'CAT; B'!J18)","v":0}]
["Cat B-Female",{"$f":"IF('CAT; B'!A19=\"\",\"\",'CAT; B'!A19)","v":"-06"},{"$f":"IF('CAT; B'!B19=\"\",\"\",'CAT; B'!B19)","v":""},{"$f":"IF('CAT; B'!C19=\"\",\"\",'CAT; B'!C19)","v":""},{"$f":"IF('CAT; B'!D19=\"\",\"\",'CAT; B'!D19)","v":""},{"$f":"IF('CAT; B'!E19=\"\",\"\",'CAT; B'!E19)","v":0},{"$f":"IF('CAT; B'!F19=\"\",\"\",'CAT; B'!F19)","v":0},{"$f":"IF('CAT; B'!G19=\"\",\"\",'CAT; B'!G19)","v":0},{"$f":"IF('CAT; B'!H19=\"\",\"\",'CAT; B'!H19)","v":0},{"$f":"IF('CAT; B'!I19=\"\",\"\",'CAT; B'!I19)","v":0},{"$f":"IF('CAT; B'!J19=\"\",\"\",'CAT; B'!J19)","v":0}]
[]
["Cat B-Male",{"$f":"IF('CAT; B'!A25=\"\",\"\",'CAT; B'!A25)","v":"-11"},{"$f":"IF('CAT; B'!B25=\"\",\"\",'CAT; B'!B25)","v":""},{"$f":"IF('CAT; B'!C25=\"\",\"\",'CAT; B'!C25)","v":""},{"$f":"IF('CAT; B'!D25=\"\",\"\",'CAT; B'!D25)","v":""},{"$f":"IF('CAT; B'!E25=\"\",\"\",'CAT; B'!E25)","v":0},{"$f":"IF('CAT; B'!F25=\"\",\"\",'CAT; B'!F25)","v":0},{"$f":"IF('CAT; B'!G25=\"\",\"\",'CAT; B'!G25)","v":0},{"$f":"IF('CAT; B'!H25=\"\",\"\",'CAT; B'!H25)","v":0},{"$f":"IF('CAT; B'!I25=\"\",\"\",'CAT; B'!I25)","v":0},{"$f":"IF('CAT; B'!J25=\"\",\"\",'CAT; B'!J25)","v":0}]
["Cat B-Male",{"$f":"IF('CAT; B'!A26=\"\",\"\",'CAT; B'!A26)","v":"-12"},{"$f":"IF('CAT; B'!B26=\"\",\"\",'CAT; B'!B26)","v":""},{"$f":"IF('CAT; B'!C26=\"\",\"\",'CAT; B'!C26)","v":""},{"$f":"IF('CAT; B'!D26=\"\",\"\",'CAT; B'!D26)","v":""},{"$f":"IF('CAT; B'!E26=\"\",\"\",'CAT; B'!E26)","v":0},{"$f":"IF('CAT; B'!F26=\"\",\"\",'CAT; B'!F26)","v":0},{"$f":"IF('CAT; B'!G26=\"\",\"\",'CAT; B'!G26)","v":0},{"$f":"IF('CAT; B'!H26=\"\",\"\",'CAT; B'!H26)","v":0},{"$f":"IF('CAT; B'!I26=\"\",\"\",'CAT; B'!I26)","v":0},{"$f":"IF('CAT; B'!J26=\"\",\"\",'CAT; B'!J26)","v":0}]
["Cat B-Male",{"$f":"IF('CAT; B'!A27=\"\",\"\",'CAT; B'!A27)","v":"-13"},{"$f":"IF('CAT; B'!B27=\"\",\"\",'CAT; B'!B27)","v":""},{"$f":"IF('CAT; B'!C27=\"\",\"\",'CAT; B'!C27)","v":""},{"$f":"IF('CAT; B'!D27=\"\",\"\",'CAT; B'!D27)","v":""},{"$f":"IF('CAT; B'!E27=\"\",\"\",'CAT; B'!E27)","v":0},{"$f":"IF('CAT; B'!F27=\"\",\"\",'CAT; B'!F27)","v":0},{"$f":"IF('CAT; B'!G27=\"\",\"\",'CAT; B'!G27)","v":0},{"$f":"IF('CAT; B'!H27=\"\",\"\",'CAT; B'!H27)","v":0},{"$f":"IF('CAT; B'!I27=\"\",\"\",'CAT; B'!I27)","v":0},{"$f":"IF('CAT; B'!J27=\"\",\"\",'CAT; B'!J27)","v":0}]
["Cat B-Male",{"$f":"IF('CAT; B'!A28=\"\",\"\",'CAT; B'!A28)","v":"-14"},{"$f":"IF('CAT; B'!B28=\"\",\"\",'CAT; B'!B28)","v":""},{"$f":"IF('CAT; B'!C28=\"\",\"\",'CAT; B'!C28)","v":""},{"$f":"IF('CAT; B'!D28=\"\",\"\",'CAT; B'!D28)","v":""},{"$f":"IF('CAT; B'!E28=\"\",\"\",'CAT; B'!E28)","v":0},{"$f":"IF('CAT; B'!F28=\"\",\"\",'CAT; B'!F28)","v":0},{"$f":"IF('CAT; B'!G28=\"\",\"\",'CAT; B'!G28)","v":0},{"$f":"IF('CAT; B'!H28=\"\",\"\",'CAT; B'!H28)","v":0},{"$f":"IF('CAT; B'!I28=\"\",\"\",'CAT; B'!I28)","v":0},{"$f":"IF('CAT; B'!J28=\"\",\"\",'CAT; B'!J28)","v":0}]
["Cat B-Male",{"$f":"IF('CAT; B'!A29=\"\",\"\",'CAT; B'!A29)","v":"-15"},{"$f":"IF('CAT; B'!B29=\"\",\"\",'CAT; B'!B29)","v":""},{"$f":"IF('CAT; B'!C29=\"\",\"\",'CAT; B'!C29)","v":""},{"$f":"IF('CAT; B'!D29=\"\",\"\",'CAT; B'!D29)","v":""},{"$f":"IF('CAT; B'!E29=\"\",\"\",'CAT; B'!E29)","v":0},{"$f":"IF('CAT; B'!F29=\"\",\"\",'CAT; B'!F29)","v":0},{"$f":"IF('CAT; B'!G29=\"\",\"\",'CAT; B'!G29)","v":0},{"$f":"IF('CAT; B'!H29=\"\",\"\",'CAT; B'!H29)","v":0},{"$f":"IF('CAT; B'!I29=\"\",\"\",'CAT; B'!I29)","v":0},{"$f":"IF('CAT; B'!J29=\"\",\"\",'CAT; B'!J29)","v":0}]
["Cat B-Male",{"$f":"IF('CAT; B'!A30=\"\",\"\",'CAT; B'!A30)","v":"-16"},{"$f":"IF('CAT; B'!B30=\"\",\"\",'CAT; B'!B30)","v":""},{"$f":"IF('CAT; B'!C30=\"\",\"\",'CAT; B'!C30)","v":""},{"$f":"IF('CAT; B'!D30=\"\",\"\",'CAT; B'!D30)","v":""},{"$f":"IF('CAT; B'!E30=\"\",\"\",'CAT; B'!E30)","v":0},{"$f":"IF('CAT; B'!F30=\"\",\"\",'CAT; B'!F30)","v":0},{"$f":"IF('CAT; B'!G30=\"\",\"\",'CAT; B'!G30)","v":0},{"$f":"IF('CAT; B'!H30=\"\",\"\",'CAT; B'!H30)","v":0},{"$f":"IF('CAT; B'!I30=\"\",\"\",'CAT; B'!I30)","v":0},{"$f":"IF('CAT; B'!J30=\"\",\"\",'CAT; B'!J30)","v":0}]
[]
["Cat M-Female",{"$f":"IF('CAT; M'!A14=\"\",\"\",'CAT; M'!A14)","v":"-01"},{"$f":"IF('CAT; M'!B14=\"\",\"\",'CAT; M'!B14)","v":""},{"$f":"IF('CAT; M'!C14=\"\",\"\",'CAT; M'!C14)","v":""},{"$f":"IF('CAT; M'!D14=\"\",\"\",'CAT; M'!D14)","v":""},{"$f":"IF('CAT; M'!E14=\"\",\"\",'CAT; M'!E14)","v":0},{"$f":"IF('CAT; M'!F14=\"\",\"\",'CAT; M'!F14)","v":0},{"$f":"IF('CAT; M'!G14=\"\",\"\",'CAT; M'!G14)","v":0},{"$f":"IF('CAT; M'!H14=\"\",\"\",'CAT; M'!H14)","v":0},{"$f":"IF('CAT; M'!I14=\"\",\"\",'CAT; M'!I14)","v":0},{"$f":"IF('CAT; M'!J14=\"\",\"\",'CAT; M'!J14)","v":0}]
["Cat M-Female",{"$f":"IF('CAT; M'!A15=\"\",\"\",'CAT; M'!A15)","v":"-02"},{"$f":"IF('CAT; M'!B15=\"\",\"\",'CAT; M'!B15)","v":""},{"$f":"IF('CAT; M'!C15=\"\",\"\",'CAT; M'!C15)","v":""},{"$f":"IF('CAT; M'!D15=\"\",\"\",'CAT; M'!D15)","v":""},{"$f":"IF('CAT; M'!E15=\"\",\"\",'CAT; M'!E15)","v":0},{"$f":"IF('CAT; M'!F15=\"\",\"\",'CAT; M'!F15)","v":0},{"$f":"IF('CAT; M'!G15=\"\",\"\",'CAT; M'!G15)","v":0},{"$f":"IF('CAT; M'!H15=\"\",\"\",'CAT; M'!H15)","v":0},{"$f":"IF('CAT; M'!I15=\"\",\"\",'CAT; M'!I15)","v":0},{"$f":"IF('CAT; M'!J15=\"\",\"\",'CAT; M'!J15)","v":0}]
["Cat M-Female",{"$f":"IF('CAT; M'!A16=\"\",\"\",'CAT; M'!A16)","v":"-03"},{"$f":"IF('CAT; M'!B16=\"\",\"\",'CAT; M'!B16)","v":""},{"$f":"IF('CAT; M'!C16=\"\",\"\",'CAT; M'!C16)","v":""},{"$f":"IF('CAT; M'!D16=\"\",\"\",'CAT; M'!D16)","v":""},{"$f":"IF('CAT; M'!E16=\"\",\"\",'CAT; M'!E16)","v":0},{"$f":"IF('CAT; M'!F16=\"\",\"\",'CAT; M'!F16)","v":0},{"$f":"IF('CAT; M'!G16=\"\",\"\",'CAT; M'!G16)","v":0},{"$f":"IF('CAT; M'!H16=\"\",\"\",'CAT; M'!H16)","v":0},{"$f":"IF('CAT; M'!I16=\"\",\"\",'CAT; M'!I16)","v":0},{"$f":"IF('CAT; M'!J16=\"\",\"\",'CAT; M'!J16)","v":0}]
["Cat M-Female",{"$f":"IF('CAT; M'!A17=\"\",\"\",'CAT; M'!A17)","v":"-04"},{"$f":"IF('CAT; M'!B17=\"\",\"\",'CAT; M'!B17)","v":""},{"$f":"IF('CAT; M'!C17=\"\",\"\",'CAT; M'!C17)","v":""},{"$f":"IF('CAT; M'!D17=\"\",\"\",'CAT; M'!D17)","v":""},{"$f":"IF('CAT; M'!E17=\"\",\"\",'CAT; M'!E17)","v":0},{"$f":"IF('CAT; M'!F17=\"\",\"\",'CAT; M'!F17)","v":0},{"$f":"IF('CAT; M'!G17=\"\",\"\",'CAT; M'!G17)","v":0},{"$f":"IF('CAT; M'!H17=\"\",\"\",'CAT; M'!H17)","v":0},{"$f":"IF('CAT; M'!I17=\"\",\"\",'CAT; M'!I17)","v":0},{"$f":"IF('CAT; M'!J17=\"\",\"\",'CAT; M'!J17)","v":0}]
["Cat M-Female",{"$f":"IF('CAT; M'!A18=\"\",\"\",'CAT; M'!A18)","v":"-05"},{"$f":"IF('CAT; M'!B18=\"\",\"\",'CAT; M'!B18)","v":""},{"$f":"IF('CAT; M'!C18=\"\",\"\",'CAT; M'!C18)","v":""},{"$f":"IF('CAT; M'!D18=\"\",\"\",'CAT; M'!D18)","v":""},{"$f":"IF('CAT; M'!E18=\"\",\"\",'CAT; M'!E18)","v":0},{"$f":"IF('CAT; M'!F18=\"\",\"\",'CAT; M'!F18)","v":0},{"$f":"IF('CAT; M'!G18=\"\",\"\",'CAT; M'!G18)","v":0},{"$f":"IF('CAT; M'!H18=\"\",\"\",'CAT; M'!H18)","v":0},{"$f":"IF('CAT; M'!I18=\"\",\"\",'CAT; M'!I18)","v":0},{"$f":"IF('CAT; M'!J18=\"\",\"\",'CAT; M'!J18)","v":0}]
["Cat M-Female",{"$f":"IF('CAT; M'!A19=\"\",\"\",'CAT; M'!A19)","v":"-06"},{"$f":"IF('CAT; M'!B19=\"\",\"\",'CAT; M'!B19)","v":""},{"$f":"IF('CAT; M'!C19=\"\",\"\",'CAT; M'!C19)","v":""},{"$f":"IF('CAT; M'!D19=\"\",\"\",'CAT; M'!D19)","v":""},{"$f":"IF('CAT; M'!E19=\"\",\"\",'CAT; M'!E19)","v":0},{"$f":"IF('CAT; M'!F19=\"\",\"\",'CAT; M'!F19)","v":0},{"$f":"IF('CAT; M'!G19=\"\",\"\",'CAT; M'!G19)","v":0},{"$f":"IF('CAT; M'!H19=\"\",\"\",'CAT; M'!H19)","v":0},{"$f":"IF('CAT; M'!I19=\"\",\"\",'CAT; M'!I19)","v":0},{"$f":"IF('CAT; M'!J19=\"\",\"\",'CAT; M'!J19)","v":0}]
[]
["Cat M-Male",{"$f":"IF('CAT; M'!A25=\"\",\"\",'CAT; M'!A25)","v":"-11"},{"$f":"IF('CAT; M'!B25=\"\",\"\",'CAT; M'!B25)","v":""},{"$f":"IF('CAT; M'!C25=\"\",\"\",'CAT; M'!C25)","v":""},{"$f":"IF('CAT; M'!D25=\"\",\"\",'CAT; M'!D25)","v":""},{"$f":"IF('CAT; M'!E25=\"\",\"\",'CAT; M'!E25)","v":0},{"$f":"IF('CAT; M'!F25=\"\",\"\",'CAT; M'!F25)","v":0},{"$f":"IF('CAT; M'!G25=\"\",\"\",'CAT; M'!G25)","v":0},{"$f":"IF('CAT; M'!H25=\"\",\"\",'CAT; M'!H25)","v":0},{"$f":"IF('CAT; M'!I25=\"\",\"\",'CAT; M'!I25)","v":0},{"$f":"IF('CAT; M'!J25=\"\",\"\",'CAT; M'!J25)","v":0}]
["Cat M-Male",{"$f":"IF('CAT; M'!A26=\"\",\"\",'CAT; M'!A26)","v":"-12"},{"$f":"IF('CAT; M'!B26=\"\",\"\",'CAT; M'!B26)","v":""},{"$f":"IF('CAT; M'!C26=\"\",\"\",'CAT; M'!C26)","v":""},{"$f":"IF('CAT; M'!D26=\"\",\"\",'CAT; M'!D26)","v":""},{"$f":"IF('CAT; M'!E26=\"\",\"\",'CAT; M'!E26)","v":0},{"$f":"IF('CAT; M'!F26=\"\",\"\",'CAT; M'!F26)","v":0},{"$f":"IF('CAT; M'!G26=\"\",\"\",'CAT; M'!G26)","v":0},{"$f":"IF('CAT; M'!H26=\"\",\"\",'CAT; M'!H26)","v":0},{"$f":"IF('CAT; M'!I26=\"\",\"\",'CAT; M'!I26)","v":0},{"$f":"IF('CAT; M'!J26=\"\",\"\",'CAT; M'!J26)","v":0}]
["Cat M-Male",{"$f":"IF('CAT; M'!A27=\"\",\"\",'CAT; M'!A27)","v":"-13"},{"$f":"IF('CAT; M'!B27=\"\",\"\",'CAT; M'!B27)","v":""},{"$f":"IF('CAT; M'!C27=\"\",\"\",'CAT; M'!C27)","v":""},{"$f":"IF('CAT; M'!D27=\"\",\"\",'CAT; M'!D27)","v":""},{"$f":"IF('CAT; M'!E27=\"\",\"\",'CAT; M'!E27)","v":0},{"$f":"IF('CAT; M'!F27=\"\",\"\",'CAT; M'!F27)","v":0},{"$f":"IF('CAT; M'!G27=\"\",\"\",'CAT; M'!G27)","v":0},{"$f":"IF('CAT; M'!H27=\"\",\"\",'CAT; M'!H27)","v":0},{"$f":"IF('CAT; M'!I27=\"\",\"\",'CAT; M'!I27)","v":0},{"$f":"IF('CAT; M'!J27=\"\",\"\",'CAT; M'!J27)","v":0}]
["Cat M-Male",{"$f":"IF('CAT; M'!A28=\"\",\"\",'CAT; M'!A28)","v":"-14"},{"$f":"IF('CAT; M'!B28=\"\",\"\",'CAT; M'!B28)","v":""},{"$f":"IF('CAT; M'!C28=\"\",\"\",'CAT; M'!C28)","v":""},{"$f":"IF('CAT; M'!D28=\"\",\"\",'CAT; M'!D28)","v":""},{"$f":"IF('CAT; M'!E28=\"\",\"\",'CAT; M'!E28)","v":0},{"$f":"IF('CAT; M'!F28=\"\",\"\",'CAT; M'!F28)","v":0},{"$f":"IF('CAT; M'!G28=\"\",\"\",'CAT; M'!G28)","v":0},{"$f":"IF('CAT; M'!H28=\"\",\"\",'CAT; M'!H28)","v":0},{"$f":"IF('CAT; M'!I28=\"\",\"\",'CAT; M'!I28)","v":0},{"$f":"IF('CAT; M'!J28=\"\",\"\",'CAT; M'!J28)","v":0}]
["Cat M-Male",{"$f":"IF('CAT; M'!A29=\"\",\"\",'CAT; M'!A29)","v":"-15"},{"$f":"IF('CAT; M'!B29=\"\",\"\",'CAT; M'!B29)","v":""},{"$f":"IF('CAT; M'!C29=\"\",\"\",'CAT; M'!C29)","v":""},{"$f":"IF('CAT; M'!D29=\"\",\"\",'CAT; M'!D29)","v":""},{"$f":"IF('CAT; M'!E29=\"\",\"\",'CAT; M'!E29)","v":0},{"$f":"IF('CAT; M'!F29=\"\",\"\",'CAT; M'!F29)","v":0},{"$f":"IF('CAT; M'!G29=\"\",\"\",'CAT; M'!G29)","v":0},{"$f":"IF('CAT; M'!H29=\"\",\"\",'CAT; M'!H29)","v":0},{"$f":"IF('CAT; M'!I29=\"\",\"\",'CAT; M'!I29)","v":0},{"$f":"IF('CAT; M'!J29=\"\",\"\",'CAT; M'!J29)","v":0}]
["Cat M-Male",{"$f":"IF('CAT; M'!A30=\"\",\"\",'CAT; M'!A30)","v":"-16"},{"$f":"IF('CAT; M'!B30=\"\",\"\",'CAT; M'!B30)","v":""},{"$f":"IF('CAT; M'!C30=\"\",\"\",'CAT; M'!C30)","v":""},{"$f":"IF('CAT; M'!D30=\"\",\"\",'CAT; M'!D30)","v":""},{"$f":"IF('CAT; M'!E30=\"\",\"\",'CAT; M'!E30)","v":0},{"$f":"IF('CAT; M'!F30=\"\",\"\",'CAT; M'!F30)","v":0},{"$f":"IF('CAT; M'!G30=\"\",\"\",'CAT; M'!G30)","v":0},{"$f":"IF('CAT; M'!H30=\"\",\"\",'CAT; M'!H30)","v":0},{"$f":"IF('CAT; M'!I30=\"\",\"\",'CAT; M'!I30)","v":0},{"$f":"IF('CAT; M'!J30=\"\",\"\",'CAT; M'!J30)","v":0}]
[]
[]
["Transfer naar sheet 4AB: Relay samenvatting Cat A, B"]
["Category","Team-nr + Relay-nr","Brigade-name",{"$f":"'Relay AB'!D40","v":"Number of team starts"},{"$f":"'Relay AB'!E40","v":"Board Rescue Race\n(2 participants)"},{"$f":"'Relay AB'!F40","v":"Rescue Tube Rescue Race\n(4 participants)"},{"$f":"'Relay AB'!G40","v":"Mixed Oceanman\n(2 male + 2 female)"},{"$f":"'Relay AB'!H40","v":"Swim Teams \n(3 participants)"}]
[{"$f":"'Relay AB'!A14","v":"Relay A-Female"},{"$f":"'Relay AB'!B14","v":"A-F--01"},{"$f":"'Relay AB'!C14","v":""},{"$f":"'Relay AB'!D14","v":0},{"$f":"'Relay AB'!E14","v":0},{"$f":"'Relay AB'!F14","v":0},null,{"$f":"'Relay AB'!H14","v":0}]
[{"$f":"'Relay AB'!A15","v":"Relay A-Female"},{"$f":"'Relay AB'!B15","v":"A-F--02"},{"$f":"'Relay AB'!C15","v":""},{"$f":"'Relay AB'!D15","v":0},{"$f":"'Relay AB'!E15","v":0},{"$f":"'Relay AB'!F15","v":0},null,{"$f":"'Relay AB'!H15","v":0}]
[{"$f":"'Relay AB'!A16","v":"Relay A-Female"},{"$f":"'Relay AB'!B16","v":"A-F--03"},{"$f":"'Relay AB'!C16","v":""},{"$f":"'Relay AB'!D16","v":0},{"$f":"'Relay AB'!E16","v":0},{"$f":"'Relay AB'!F16","v":0},null,{"$f":"'Relay AB'!H16","v":0}]
[{"$f":"'Relay AB'!A17","v":"Relay A-Female"},{"$f":"'Relay AB'!B17","v":"A-F--04"},{"$f":"'Relay AB'!C17","v":""},{"$f":"'Relay AB'!D17","v":0},{"$f":"'Relay AB'!E17","v":0},{"$f":"'Relay AB'!F17","v":0},null,{"$f":"'Relay AB'!H17","v":0}]
[{"$f":"'Relay AB'!A18","v":"Relay A-Female"},{"$f":"'Relay AB'!B18","v":"A-F--05"},{"$f":"'Relay AB'!C18","v":""},{"$f":"'Relay AB'!D18","v":0},{"$f":"'Relay AB'!E18","v":0},{"$f":"'Relay AB'!F18","v":0},null,{"$f":"'Relay AB'!H18","v":0}]
[{"$f":"'Relay AB'!A19","v":"Relay A-Female"},{"$f":"'Relay AB'!B19","v":"A-F--06"},{"$f":"'Relay AB'!C19","v":""},{"$f":"'Relay AB'!D19","v":0},{"$f":"'Relay AB'!E19","v":0},{"$f":"'Relay AB'!F19","v":0},null,{"$f":"'Relay AB'!H19","v":0}]
[{"$f":"'Relay AB'!A20","v":"Relay A-Female"},{"$f":"'Relay AB'!B20","v":"A-F--07"},{"$f":"'Relay AB'!C20","v":""},{"$f":"'Relay AB'!D20","v":0},{"$f":"'Relay AB'!E20","v":0},{"$f":"'Relay AB'!F20","v":0},null,{"$f":"'Relay AB'!H20","v":0}]
[{"$f":"'Relay AB'!A21","v":"Relay A-Female"},{"$f":"'Relay AB'!B21","v":"A-F--08"},{"$f":"'Relay AB'!C21","v":""},{"$f":"'Relay AB'!D21","v":0},{"$f":"'Relay AB'!E21","v":0},{"$f":"'Relay AB'!F21","v":0},null,{"$f":"'Relay AB'!H21","v":0}]
[]
[{"$f":"'Relay AB'!A27","v":"Relay A-Male"},{"$f":"'Relay AB'!B27","v":"A-M--11"},{"$f":"'Relay AB'!C27","v":""},{"$f":"'Relay AB'!D27","v":0},{"$f":"'Relay AB'!E27","v":0},{"$f":"'Relay AB'!F27","v":0},{"$f":"'Relay AB'!G27","v":0},{"$f":"'Relay AB'!H27","v":0}]
[{"$f":"'Relay AB'!A28","v":"Relay A-Male"},{"$f":"'Relay AB'!B28","v":"A-M--12"},{"$f":"'Relay AB'!C28","v":""},{"$f":"'Relay AB'!D28","v":0},{"$f":"'Relay AB'!E28","v":0},{"$f":"'Relay AB'!F28","v":0},{"$f":"'Relay AB'!G28","v":0},{"$f":"'Relay AB'!H28","v":0}]
[{"$f":"'Relay AB'!A29","v":"Relay A-Male"},{"$f":"'Relay AB'!B29","v":"A-M--13"},{"$f":"'Relay AB'!C29","v":""},{"$f":"'Relay AB'!D29","v":0},{"$f":"'Relay AB'!E29","v":0},{"$f":"'Relay AB'!F29","v":0},{"$f":"'Relay AB'!G29","v":0},{"$f":"'Relay AB'!H29","v":0}]
[{"$f":"'Relay AB'!A30","v":"Relay A-Male"},{"$f":"'Relay AB'!B30","v":"A-M--14"},{"$f":"'Relay AB'!C30","v":""},{"$f":"'Relay AB'!D30","v":0},{"$f":"'Relay AB'!E30","v":0},{"$f":"'Relay AB'!F30","v":0},{"$f":"'Relay AB'!G30","v":0},{"$f":"'Relay AB'!H30","v":0}]
[{"$f":"'Relay AB'!A31","v":"Relay A-Male"},{"$f":"'Relay AB'!B31","v":"A-M--15"},{"$f":"'Relay AB'!C31","v":""},{"$f":"'Relay AB'!D31","v":0},{"$f":"'Relay AB'!E31","v":0},{"$f":"'Relay AB'!F31","v":0},{"$f":"'Relay AB'!G31","v":0},{"$f":"'Relay AB'!H31","v":0}]
[{"$f":"'Relay AB'!A32","v":"Relay A-Male"},{"$f":"'Relay AB'!B32","v":"A-M--16"},{"$f":"'Relay AB'!C32","v":""},{"$f":"'Relay AB'!D32","v":0},{"$f":"'Relay AB'!E32","v":0},{"$f":"'Relay AB'!F32","v":0},{"$f":"'Relay AB'!G32","v":0},{"$f":"'Relay AB'!H32","v":0}]
[{"$f":"'Relay AB'!A33","v":"Relay A-Male"},{"$f":"'Relay AB'!B33","v":"A-M--17"},{"$f":"'Relay AB'!C33","v":""},{"$f":"'Relay AB'!D33","v":0},{"$f":"'Relay AB'!E33","v":0},{"$f":"'Relay AB'!F33","v":0},{"$f":"'Relay AB'!G33","v":0},{"$f":"'Relay AB'!H33","v":0}]
[{"$f":"'Relay AB'!A34","v":"Relay A-Male"},{"$f":"'Relay AB'!B34","v":"A-M--18"},{"$f":"'Relay AB'!C34","v":""},{"$f":"'Relay AB'!D34","v":0},{"$f":"'Relay AB'!E34","v":0},{"$f":"'Relay AB'!F34","v":0},{"$f":"'Relay AB'!G34","v":0},{"$f":"'Relay AB'!H34","v":0}]
[]
[{"$f":"'Relay AB'!A43","v":"Relay B-Female"},{"$f":"'Relay AB'!B43","v":"B-F--01"},{"$f":"'Relay AB'!C43","v":""},{"$f":"'Relay AB'!D43","v":0},{"$f":"'Relay AB'!E43","v":0},{"$f":"'Relay AB'!F43","v":0},null,{"$f":"'Relay AB'!H43","v":0}]
[{"$f":"'Relay AB'!A44","v":"Relay B-Female"},{"$f":"'Relay AB'!B44","v":"B-F--02"},{"$f":"'Relay AB'!C44","v":""},{"$f":"'Relay AB'!D44","v":0},{"$f":"'Relay AB'!E44","v":0},{"$f":"'Relay AB'!F44","v":0},null,{"$f":"'Relay AB'!H44","v":0}]
[{"$f":"'Relay AB'!A45","v":"Relay B-Female"},{"$f":"'Relay AB'!B45","v":"B-F--03"},{"$f":"'Relay AB'!C45","v":""},{"$f":"'Relay AB'!D45","v":0},{"$f":"'Relay AB'!E45","v":0},{"$f":"'Relay AB'!F45","v":0},null,{"$f":"'Relay AB'!H45","v":0}]
[{"$f":"'Relay AB'!A46","v":"Relay B-Female"},{"$f":"'Relay AB'!B46","v":"B-F--04"},{"$f":"'Relay AB'!C46","v":""},{"$f":"'Relay AB'!D46","v":0},{"$f":"'Relay AB'!E46","v":0},{"$f":"'Relay AB'!F46","v":0},null,{"$f":"'Relay AB'!H46","v":0}]
[{"$f":"'Relay AB'!A47","v":"Relay B-Female"},{"$f":"'Relay AB'!B47","v":"B-F--05"},{"$f":"'Relay AB'!C47","v":""},{"$f":"'Relay AB'!D47","v":0},{"$f":"'Relay AB'!E47","v":0},{"$f":"'Relay AB'!F47","v":0},null,{"$f":"'Relay AB'!H47","v":0}]
[{"$f":"'Relay AB'!A48","v":"Relay B-Female"},{"$f":"'Relay AB'!B48","v":"B-F--06"},{"$f":"'Relay AB'!C48","v":""},{"$f":"'Relay AB'!D48","v":0},{"$f":"'Relay AB'!E48","v":0},{"$f":"'Relay AB'!F48","v":0},null,{"$f":"'Relay AB'!H48","v":0}]
[{"$f":"'Relay AB'!A49","v":"Relay B-Female"},{"$f":"'Relay AB'!B49","v":"B-F--07"},{"$f":"'Relay AB'!C49","v":""},{"$f":"'Relay AB'!D49","v":0},{"$f":"'Relay AB'!E49","v":0},{"$f":"'Relay AB'!F49","v":0},null,{"$f":"'Relay AB'!H49","v":0}]
[{"$f":"'Relay AB'!A50","v":"Relay B-Female"},{"$f":"'Relay AB'!B50","v":"B-F--08"},{"$f":"'Relay AB'!C50","v":""},{"$f":"'Relay AB'!D50","v":0},{"$f":"'Relay AB'!E50","v":0},{"$f":"'Relay AB'!F50","v":0},null,{"$f":"'Relay AB'!H50","v":0}]
[]
[{"$f":"'Relay AB'!A56","v":"Relay B-Male"},{"$f":"'Relay AB'!B56","v":"B-M--11"},{"$f":"'Relay AB'!C56","v":""},{"$f":"'Relay AB'!D56","v":0},{"$f":"'Relay AB'!E56","v":0},{"$f":"'Relay AB'!F56","v":0},{"$f":"'Relay AB'!G56","v":0},{"$f":"'Relay AB'!H56","v":0}]
[{"$f":"'Relay AB'!A57","v":"Relay B-Male"},{"$f":"'Relay AB'!B57","v":"B-M--12"},{"$f":"'Relay AB'!C57","v":""},{"$f":"'Relay AB'!D57","v":0},{"$f":"'Relay AB'!E57","v":0},{"$f":"'Relay AB'!F57","v":0},{"$f":"'Relay AB'!G57","v":0},{"$f":"'Relay AB'!H57","v":0}]
[{"$f":"'Relay AB'!A58","v":"Relay B-Male"},{"$f":"'Relay AB'!B58","v":"B-M--13"},{"$f":"'Relay AB'!C58","v":""},{"$f":"'Relay AB'!D58","v":0},{"$f":"'Relay AB'!E58","v":0},{"$f":"'Relay AB'!F58","v":0},{"$f":"'Relay AB'!G58","v":0},{"$f":"'Relay AB'!H58","v":0}]
[{"$f":"'Relay AB'!A59","v":"Relay B-Male"},{"$f":"'Relay AB'!B59","v":"B-M--14"},{"$f":"'Relay AB'!C59","v":""},{"$f":"'Relay AB'!D59","v":0},{"$f":"'Relay AB'!E59","v":0},{"$f":"'Relay AB'!F59","v":0},{"$f":"'Relay AB'!G59","v":0},{"$f":"'Relay AB'!H59","v":0}]
[{"$f":"'Relay AB'!A60","v":"Relay B-Male"},{"$f":"'Relay AB'!B60","v":"B-M--15"},{"$f":"'Relay AB'!C60","v":""},{"$f":"'Relay AB'!D60","v":0},{"$f":"'Relay AB'!E60","v":0},{"$f":"'Relay AB'!F60","v":0},{"$f":"'Relay AB'!G60","v":0},{"$f":"'Relay AB'!H60","v":0}]
[{"$f":"'Relay AB'!A61","v":"Relay B-Male"},{"$f":"'Relay AB'!B61","v":"B-M--16"},{"$f":"'Relay AB'!C61","v":""},{"$f":"'Relay AB'!D61","v":0},{"$f":"'Relay AB'!E61","v":0},{"$f":"'Relay AB'!F61","v":0},{"$f":"'Relay AB'!G61","v":0},{"$f":"'Relay AB'!H61","v":0}]
[{"$f":"'Relay AB'!A62","v":"Relay B-Male"},{"$f":"'Relay AB'!B62","v":"B-M--17"},{"$f":"'Relay AB'!C62","v":""},{"$f":"'Relay AB'!D62","v":0},{"$f":"'Relay AB'!E62","v":0},{"$f":"'Relay AB'!F62","v":0},{"$f":"'Relay AB'!G62","v":0},{"$f":"'Relay AB'!H62","v":0}]
[{"$f":"'Relay AB'!A63","v":"Relay B-Male"},{"$f":"'Relay AB'!B63","v":"B-M--18"},{"$f":"'Relay AB'!C63","v":""},{"$f":"'Relay AB'!D63","v":0},{"$f":"'Relay AB'!E63","v":0},{"$f":"'Relay AB'!F63","v":0},{"$f":"'Relay AB'!G63","v":0},{"$f":"'Relay AB'!H63","v":0}]
[]
["Transfer naar sheet 3CD: Uitslagen individueel"]
[null,null,null,null,null,{"$f":"'CAT; C'!E11","v":"Number of individual \nstarts"},{"$f":"'CAT; C'!F11","v":"Board Race"},{"$f":"'CAT; C'!G11","v":"Run-Swim-Run"},{"$f":"'CAT; C'!H11","v":"Ocean(wo)man R-S-B"},{"$f":"'CAT; C'!I11","v":"750 m City Ocean Run"}]
["Category","Team + nr","Surname","Given name","Year of birth",null,1,2,3,4]
["Cat C-Female",{"$f":"IF('CAT; C'!A14=\"\",\"\",'CAT; C'!A14)","v":"-01"},{"$f":"IF('CAT; C'!B14=\"\",\"\",'CAT; C'!B14)","v":""},{"$f":"IF('CAT; C'!C14=\"\",\"\",'CAT; C'!C14)","v":""},{"$f":"IF('CAT; C'!D14=\"\",\"\",'CAT; C'!D14)","v":""},{"$f":"IF('CAT; C'!E14=\"\",\"\",'CAT; C'!E14)","v":0},{"$f":"IF('CAT; C'!F14=\"\",\"\",'CAT; C'!F14)","v":0},{"$f":"IF('CAT; C'!G14=\"\",\"\",'CAT; C'!G14)","v":0},{"$f":"IF('CAT; C'!H14=\"\",\"\",'CAT; C'!H14)","v":0},{"$f":"IF('CAT; C'!I14=\"\",\"\",'CAT; C'!I14)","v":0}]
["Cat C-Female",{"$f":"IF('CAT; C'!A15=\"\",\"\",'CAT; C'!A15)","v":"-02"},{"$f":"IF('CAT; C'!B15=\"\",\"\",'CAT; C'!B15)","v":""},{"$f":"IF('CAT; C'!C15=\"\",\"\",'CAT; C'!C15)","v":""},{"$f":"IF('CAT; C'!D15=\"\",\"\",'CAT; C'!D15)","v":""},{"$f":"IF('CAT; C'!E15=\"\",\"\",'CAT; C'!E15)","v":0},{"$f":"IF('CAT; C'!F15=\"\",\"\",'CAT; C'!F15)","v":0},{"$f":"IF('CAT; C'!G15=\"\",\"\",'CAT; C'!G15)","v":0},{"$f":"IF('CAT; C'!H15=\"\",\"\",'CAT; C'!H15)","v":0},{"$f":"IF('CAT; C'!I15=\"\",\"\",'CAT; C'!I15)","v":0}]
["Cat C-Female",{"$f":"IF('CAT; C'!A16=\"\",\"\",'CAT; C'!A16)","v":"-03"},{"$f":"IF('CAT; C'!B16=\"\",\"\",'CAT; C'!B16)","v":""},{"$f":"IF('CAT; C'!C16=\"\",\"\",'CAT; C'!C16)","v":""},{"$f":"IF('CAT; C'!D16=\"\",\"\",'CAT; C'!D16)","v":""},{"$f":"IF('CAT; C'!E16=\"\",\"\",'CAT; C'!E16)","v":0},{"$f":"IF('CAT; C'!F16=\"\",\"\",'CAT; C'!F16)","v":0},{"$f":"IF('CAT; C'!G16=\"\",\"\",'CAT; C'!G16)","v":0},{"$f":"IF('CAT; C'!H16=\"\",\"\",'CAT; C'!H16)","v":0},{"$f":"IF('CAT; C'!I16=\"\",\"\",'CAT; C'!I16)","v":0}]
["Cat C-Female",{"$f":"IF('CAT; C'!A17=\"\",\"\",'CAT; C'!A17)","v":"-04"},{"$f":"IF('CAT; C'!B17=\"\",\"\",'CAT; C'!B17)","v":""},{"$f":"IF('CAT; C'!C17=\"\",\"\",'CAT; C'!C17)","v":""},{"$f":"IF('CAT; C'!D17=\"\",\"\",'CAT; C'!D17)","v":""},{"$f":"IF('CAT; C'!E17=\"\",\"\",'CAT; C'!E17)","v":0},{"$f":"IF('CAT; C'!F17=\"\",\"\",'CAT; C'!F17)","v":0},{"$f":"IF('CAT; C'!G17=\"\",\"\",'CAT; C'!G17)","v":0},{"$f":"IF('CAT; C'!H17=\"\",\"\",'CAT; C'!H17)","v":0},{"$f":"IF('CAT; C'!I17=\"\",\"\",'CAT; C'!I17)","v":0}]
["Cat C-Female",{"$f":"IF('CAT; C'!A18=\"\",\"\",'CAT; C'!A18)","v":"-05"},{"$f":"IF('CAT; C'!B18=\"\",\"\",'CAT; C'!B18)","v":""},{"$f":"IF('CAT; C'!C18=\"\",\"\",'CAT; C'!C18)","v":""},{"$f":"IF('CAT; C'!D18=\"\",\"\",'CAT; C'!D18)","v":""},{"$f":"IF('CAT; C'!E18=\"\",\"\",'CAT; C'!E18)","v":0},{"$f":"IF('CAT; C'!F18=\"\",\"\",'CAT; C'!F18)","v":0},{"$f":"IF('CAT; C'!G18=\"\",\"\",'CAT; C'!G18)","v":0},{"$f":"IF('CAT; C'!H18=\"\",\"\",'CAT; C'!H18)","v":0},{"$f":"IF('CAT; C'!I18=\"\",\"\",'CAT; C'!I18)","v":0}]
["Cat C-Female",{"$f":"IF('CAT; C'!A19=\"\",\"\",'CAT; C'!A19)","v":"-06"},{"$f":"IF('CAT; C'!B19=\"\",\"\",'CAT; C'!B19)","v":""},{"$f":"IF('CAT; C'!C19=\"\",\"\",'CAT; C'!C19)","v":""},{"$f":"IF('CAT; C'!D19=\"\",\"\",'CAT; C'!D19)","v":""},{"$f":"IF('CAT; C'!E19=\"\",\"\",'CAT; C'!E19)","v":0},{"$f":"IF('CAT; C'!F19=\"\",\"\",'CAT; C'!F19)","v":0},{"$f":"IF('CAT; C'!G19=\"\",\"\",'CAT; C'!G19)","v":0},{"$f":"IF('CAT; C'!H19=\"\",\"\",'CAT; C'!H19)","v":0},{"$f":"IF('CAT; C'!I19=\"\",\"\",'CAT; C'!I19)","v":0}]
[]
["Cat C-Male",{"$f":"IF('CAT; C'!A25=\"\",\"\",'CAT; C'!A25)","v":"-11"},{"$f":"IF('CAT; C'!B25=\"\",\"\",'CAT; C'!B25)","v":""},{"$f":"IF('CAT; C'!C25=\"\",\"\",'CAT; C'!C25)","v":""},{"$f":"IF('CAT; C'!D25=\"\",\"\",'CAT; C'!D25)","v":""},{"$f":"IF('CAT; C'!E25=\"\",\"\",'CAT; C'!E25)","v":0},{"$f":"IF('CAT; C'!F25=\"\",\"\",'CAT; C'!F25)","v":0},{"$f":"IF('CAT; C'!G25=\"\",\"\",'CAT; C'!G25)","v":0},{"$f":"IF('CAT; C'!H25=\"\",\"\",'CAT; C'!H25)","v":0},{"$f":"IF('CAT; C'!I25=\"\",\"\",'CAT; C'!I25)","v":0}]
["Cat C-Male",{"$f":"IF('CAT; C'!A26=\"\",\"\",'CAT; C'!A26)","v":"-12"},{"$f":"IF('CAT; C'!B26=\"\",\"\",'CAT; C'!B26)","v":""},{"$f":"IF('CAT; C'!C26=\"\",\"\",'CAT; C'!C26)","v":""},{"$f":"IF('CAT; C'!D26=\"\",\"\",'CAT; C'!D26)","v":""},{"$f":"IF('CAT; C'!E26=\"\",\"\",'CAT; C'!E26)","v":0},{"$f":"IF('CAT; C'!F26=\"\",\"\",'CAT; C'!F26)","v":0},{"$f":"IF('CAT; C'!G26=\"\",\"\",'CAT; C'!G26)","v":0},{"$f":"IF('CAT; C'!H26=\"\",\"\",'CAT; C'!H26)","v":0},{"$f":"IF('CAT; C'!I26=\"\",\"\",'CAT; C'!I26)","v":0}]
["Cat C-Male",{"$f":"IF('CAT; C'!A27=\"\",\"\",'CAT; C'!A27)","v":"-13"},{"$f":"IF('CAT; C'!B27=\"\",\"\",'CAT; C'!B27)","v":""},{"$f":"IF('CAT; C'!C27=\"\",\"\",'CAT; C'!C27)","v":""},{"$f":"IF('CAT; C'!D27=\"\",\"\",'CAT; C'!D27)","v":""},{"$f":"IF('CAT; C'!E27=\"\",\"\",'CAT; C'!E27)","v":0},{"$f":"IF('CAT; C'!F27=\"\",\"\",'CAT; C'!F27)","v":0},{"$f":"IF('CAT; C'!G27=\"\",\"\",'CAT; C'!G27)","v":0},{"$f":"IF('CAT; C'!H27=\"\",\"\",'CAT; C'!H27)","v":0},{"$f":"IF('CAT; C'!I27=\"\",\"\",'CAT; C'!I27)","v":0}]
["Cat C-Male",{"$f":"IF('CAT; C'!A28=\"\",\"\",'CAT; C'!A28)","v":"-14"},{"$f":"IF('CAT; C'!B28=\"\",\"\",'CAT; C'!B28)","v":""},{"$f":"IF('CAT; C'!C28=\"\",\"\",'CAT; C'!C28)","v":""},{"$f":"IF('CAT; C'!D28=\"\",\"\",'CAT; C'!D28)","v":""},{"$f":"IF('CAT; C'!E28=\"\",\"\",'CAT; C'!E28)","v":0},{"$f":"IF('CAT; C'!F28=\"\",\"\",'CAT; C'!F28)","v":0},{"$f":"IF('CAT; C'!G28=\"\",\"\",'CAT; C'!G28)","v":0},{"$f":"IF('CAT; C'!H28=\"\",\"\",'CAT; C'!H28)","v":0},{"$f":"IF('CAT; C'!I28=\"\",\"\",'CAT; C'!I28)","v":0}]
["Cat C-Male",{"$f":"IF('CAT; C'!A29=\"\",\"\",'CAT; C'!A29)","v":"-15"},{"$f":"IF('CAT; C'!B29=\"\",\"\",'CAT; C'!B29)","v":""},{"$f":"IF('CAT; C'!C29=\"\",\"\",'CAT; C'!C29)","v":""},{"$f":"IF('CAT; C'!D29=\"\",\"\",'CAT; C'!D29)","v":""},{"$f":"IF('CAT; C'!E29=\"\",\"\",'CAT; C'!E29)","v":0},{"$f":"IF('CAT; C'!F29=\"\",\"\",'CAT; C'!F29)","v":0},{"$f":"IF('CAT; C'!G29=\"\",\"\",'CAT; C'!G29)","v":0},{"$f":"IF('CAT; C'!H29=\"\",\"\",'CAT; C'!H29)","v":0},{"$f":"IF('CAT; C'!I29=\"\",\"\",'CAT; C'!I29)","v":0}]
["Cat C-Male",{"$f":"IF('CAT; C'!A30=\"\",\"\",'CAT; C'!A30)","v":"-16"},{"$f":"IF('CAT; C'!B30=\"\",\"\",'CAT; C'!B30)","v":""},{"$f":"IF('CAT; C'!C30=\"\",\"\",'CAT; C'!C30)","v":""},{"$f":"IF('CAT; C'!D30=\"\",\"\",'CAT; C'!D30)","v":""},{"$f":"IF('CAT; C'!E30=\"\",\"\",'CAT; C'!E30)","v":0},{"$f":"IF('CAT; C'!F30=\"\",\"\",'CAT; C'!F30)","v":0},{"$f":"IF('CAT; C'!G30=\"\",\"\",'CAT; C'!G30)","v":0},{"$f":"IF('CAT; C'!H30=\"\",\"\",'CAT; C'!H30)","v":0},{"$f":"IF('CAT; C'!I30=\"\",\"\",'CAT; C'!I30)","v":0}]
[]
["Cat D-Female",{"$f":"IF('CAT; D'!A14=\"\",\"\",'CAT; D'!A14)","v":"-01"},{"$f":"IF('CAT; D'!B14=\"\",\"\",'CAT; D'!B14)","v":""},{"$f":"IF('CAT; D'!C14=\"\",\"\",'CAT; D'!C14)","v":""},{"$f":"IF('CAT; D'!D14=\"\",\"\",'CAT; D'!D14)","v":""},{"$f":"IF('CAT; D'!E14=\"\",\"\",'CAT; D'!E14)","v":0},{"$f":"IF('CAT; D'!F14=\"\",\"\",'CAT; D'!F14)","v":0},{"$f":"IF('CAT; D'!G14=\"\",\"\",'CAT; D'!G14)","v":0},{"$f":"IF('CAT; D'!H14=\"\",\"\",'CAT; D'!H14)","v":0},{"$f":"IF('CAT; D'!I14=\"\",\"\",'CAT; D'!I14)","v":0}]
["Cat D-Female",{"$f":"IF('CAT; D'!A15=\"\",\"\",'CAT; D'!A15)","v":"-02"},{"$f":"IF('CAT; D'!B15=\"\",\"\",'CAT; D'!B15)","v":""},{"$f":"IF('CAT; D'!C15=\"\",\"\",'CAT; D'!C15)","v":""},{"$f":"IF('CAT; D'!D15=\"\",\"\",'CAT; D'!D15)","v":""},{"$f":"IF('CAT; D'!E15=\"\",\"\",'CAT; D'!E15)","v":0},{"$f":"IF('CAT; D'!F15=\"\",\"\",'CAT; D'!F15)","v":0},{"$f":"IF('CAT; D'!G15=\"\",\"\",'CAT; D'!G15)","v":0},{"$f":"IF('CAT; D'!H15=\"\",\"\",'CAT; D'!H15)","v":0},{"$f":"IF('CAT; D'!I15=\"\",\"\",'CAT; D'!I15)","v":0}]
["Cat D-Female",{"$f":"IF('CAT; D'!A16=\"\",\"\",'CAT; D'!A16)","v":"-03"},{"$f":"IF('CAT; D'!B16=\"\",\"\",'CAT; D'!B16)","v":""},{"$f":"IF('CAT; D'!C16=\"\",\"\",'CAT; D'!C16)","v":""},{"$f":"IF('CAT; D'!D16=\"\",\"\",'CAT; D'!D16)","v":""},{"$f":"IF('CAT; D'!E16=\"\",\"\",'CAT; D'!E16)","v":0},{"$f":"IF('CAT; D'!F16=\"\",\"\",'CAT; D'!F16)","v":0},{"$f":"IF('CAT; D'!G16=\"\",\"\",'CAT; D'!G16)","v":0},{"$f":"IF('CAT; D'!H16=\"\",\"\",'CAT; D'!H16)","v":0},{"$f":"IF('CAT; D'!I16=\"\",\"\",'CAT; D'!I16)","v":0}]
["Cat D-Female",{"$f":"IF('CAT; D'!A17=\"\",\"\",'CAT; D'!A17)","v":"-04"},{"$f":"IF('CAT; D'!B17=\"\",\"\",'CAT; D'!B17)","v":""},{"$f":"IF('CAT; D'!C17=\"\",\"\",'CAT; D'!C17)","v":""},{"$f":"IF('CAT; D'!D17=\"\",\"\",'CAT; D'!D17)","v":""},{"$f":"IF('CAT; D'!E17=\"\",\"\",'CAT; D'!E17)","v":0},{"$f":"IF('CAT; D'!F17=\"\",\"\",'CAT; D'!F17)","v":0},{"$f":"IF('CAT; D'!G17=\"\",\"\",'CAT; D'!G17)","v":0},{"$f":"IF('CAT; D'!H17=\"\",\"\",'CAT; D'!H17)","v":0},{"$f":"IF('CAT; D'!I17=\"\",\"\",'CAT; D'!I17)","v":0}]
["Cat D-Female",{"$f":"IF('CAT; D'!A18=\"\",\"\",'CAT; D'!A18)","v":"-05"},{"$f":"IF('CAT; D'!B18=\"\",\"\",'CAT; D'!B18)","v":""},{"$f":"IF('CAT; D'!C18=\"\",\"\",'CAT; D'!C18)","v":""},{"$f":"IF('CAT; D'!D18=\"\",\"\",'CAT; D'!D18)","v":""},{"$f":"IF('CAT; D'!E18=\"\",\"\",'CAT; D'!E18)","v":0},{"$f":"IF('CAT; D'!F18=\"\",\"\",'CAT; D'!F18)","v":0},{"$f":"IF('CAT; D'!G18=\"\",\"\",'CAT; D'!G18)","v":0},{"$f":"IF('CAT; D'!H18=\"\",\"\",'CAT; D'!H18)","v":0},{"$f":"IF('CAT; D'!I18=\"\",\"\",'CAT; D'!I18)","v":0}]
["Cat D-Female",{"$f":"IF('CAT; D'!A19=\"\",\"\",'CAT; D'!A19)","v":"-06"},{"$f":"IF('CAT; D'!B19=\"\",\"\",'CAT; D'!B19)","v":""},{"$f":"IF('CAT; D'!C19=\"\",\"\",'CAT; D'!C19)","v":""},{"$f":"IF('CAT; D'!D19=\"\",\"\",'CAT; D'!D19)","v":""},{"$f":"IF('CAT; D'!E19=\"\",\"\",'CAT; D'!E19)","v":0},{"$f":"IF('CAT; D'!F19=\"\",\"\",'CAT; D'!F19)","v":0},{"$f":"IF('CAT; D'!G19=\"\",\"\",'CAT; D'!G19)","v":0},{"$f":"IF('CAT; D'!H19=\"\",\"\",'CAT; D'!H19)","v":0},{"$f":"IF('CAT; D'!I19=\"\",\"\",'CAT; D'!I19)","v":0}]
[]
["Cat D-Male",{"$f":"IF('CAT; D'!A25=\"\",\"\",'CAT; D'!A25)","v":"-11"},{"$f":"IF('CAT; D'!B25=\"\",\"\",'CAT; D'!B25)","v":""},{"$f":"IF('CAT; D'!C25=\"\",\"\",'CAT; D'!C25)","v":""},{"$f":"IF('CAT; D'!D25=\"\",\"\",'CAT; D'!D25)","v":""},{"$f":"IF('CAT; D'!E25=\"\",\"\",'CAT; D'!E25)","v":0},{"$f":"IF('CAT; D'!F25=\"\",\"\",'CAT; D'!F25)","v":0},{"$f":"IF('CAT; D'!G25=\"\",\"\",'CAT; D'!G25)","v":0},{"$f":"IF('CAT; D'!H25=\"\",\"\",'CAT; D'!H25)","v":0},{"$f":"IF('CAT; D'!I25=\"\",\"\",'CAT; D'!I25)","v":0}]
["Cat D-Male",{"$f":"IF('CAT; D'!A26=\"\",\"\",'CAT; D'!A26)","v":"-12"},{"$f":"IF('CAT; D'!B26=\"\",\"\",'CAT; D'!B26)","v":""},{"$f":"IF('CAT; D'!C26=\"\",\"\",'CAT; D'!C26)","v":""},{"$f":"IF('CAT; D'!D26=\"\",\"\",'CAT; D'!D26)","v":""},{"$f":"IF('CAT; D'!E26=\"\",\"\",'CAT; D'!E26)","v":0},{"$f":"IF('CAT; D'!F26=\"\",\"\",'CAT; D'!F26)","v":0},{"$f":"IF('CAT; D'!G26=\"\",\"\",'CAT; D'!G26)","v":0},{"$f":"IF('CAT; D'!H26=\"\",\"\",'CAT; D'!H26)","v":0},{"$f":"IF('CAT; D'!I26=\"\",\"\",'CAT; D'!I26)","v":0}]
["Cat D-Male",{"$f":"IF('CAT; D'!A27=\"\",\"\",'CAT; D'!A27)","v":"-13"},{"$f":"IF('CAT; D'!B27=\"\",\"\",'CAT; D'!B27)","v":""},{"$f":"IF('CAT; D'!C27=\"\",\"\",'CAT; D'!C27)","v":""},{"$f":"IF('CAT; D'!D27=\"\",\"\",'CAT; D'!D27)","v":""},{"$f":"IF('CAT; D'!E27=\"\",\"\",'CAT; D'!E27)","v":0},{"$f":"IF('CAT; D'!F27=\"\",\"\",'CAT; D'!F27)","v":0},{"$f":"IF('CAT; D'!G27=\"\",\"\",'CAT; D'!G27)","v":0},{"$f":"IF('CAT; D'!H27=\"\",\"\",'CAT; D'!H27)","v":0},{"$f":"IF('CAT; D'!I27=\"\",\"\",'CAT; D'!I27)","v":0}]
["Cat D-Male",{"$f":"IF('CAT; D'!A28=\"\",\"\",'CAT; D'!A28)","v":"-14"},{"$f":"IF('CAT; D'!B28=\"\",\"\",'CAT; D'!B28)","v":""},{"$f":"IF('CAT; D'!C28=\"\",\"\",'CAT; D'!C28)","v":""},{"$f":"IF('CAT; D'!D28=\"\",\"\",'CAT; D'!D28)","v":""},{"$f":"IF('CAT; D'!E28=\"\",\"\",'CAT; D'!E28)","v":0},{"$f":"IF('CAT; D'!F28=\"\",\"\",'CAT; D'!F28)","v":0},{"$f":"IF('CAT; D'!G28=\"\",\"\",'CAT; D'!G28)","v":0},{"$f":"IF('CAT; D'!H28=\"\",\"\",'CAT; D'!H28)","v":0},{"$f":"IF('CAT; D'!I28=\"\",\"\",'CAT; D'!I28)","v":0}]
["Cat D-Male",{"$f":"IF('CAT; D'!A29=\"\",\"\",'CAT; D'!A29)","v":"-15"},{"$f":"IF('CAT; D'!B29=\"\",\"\",'CAT; D'!B29)","v":""},{"$f":"IF('CAT; D'!C29=\"\",\"\",'CAT; D'!C29)","v":""},{"$f":"IF('CAT; D'!D29=\"\",\"\",'CAT; D'!D29)","v":""},{"$f":"IF('CAT; D'!E29=\"\",\"\",'CAT; D'!E29)","v":0},{"$f":"IF('CAT; D'!F29=\"\",\"\",'CAT; D'!F29)","v":0},{"$f":"IF('CAT; D'!G29=\"\",\"\",'CAT; D'!G29)","v":0},{"$f":"IF('CAT; D'!H29=\"\",\"\",'CAT; D'!H29)","v":0},{"$f":"IF('CAT; D'!I29=\"\",\"\",'CAT; D'!I29)","v":0}]
["Cat D-Male",{"$f":"IF('CAT; D'!A30=\"\",\"\",'CAT; D'!A30)","v":"-16"},{"$f":"IF('CAT; D'!B30=\"\",\"\",'CAT; D'!B30)","v":""},{"$f":"IF('CAT; D'!C30=\"\",\"\",'CAT; D'!C30)","v":""},{"$f":"IF('CAT; D'!D30=\"\",\"\",'CAT; D'!D30)","v":""},{"$f":"IF('CAT; D'!E30=\"\",\"\",'CAT; D'!E30)","v":0},{"$f":"IF('CAT; D'!F30=\"\",\"\",'CAT; D'!F30)","v":0},{"$f":"IF('CAT; D'!G30=\"\",\"\",'CAT; D'!G30)","v":0},{"$f":"IF('CAT; D'!H30=\"\",\"\",'CAT; D'!H30)","v":0},{"$f":"IF('CAT; D'!I30=\"\",\"\",'CAT; D'!I30)","v":0}]
[]
["Transfer naar sheet 4CD: Relay samenvatting Cat C, D"]
["Category","Team-nr + Relay-nr","Brigade-name",{"$f":"'Relay CD'!D11","v":"Number of team starts"},{"$f":"'Relay CD'!E11","v":"Board Rescue Race\n(2 participants)"},{"$f":"'Relay CD'!F11","v":"Camaron Relay\n(4 participants)"}]
[{"$f":"'Relay CD'!A14","v":"Relay C-Female"},{"$f":"'Relay CD'!B14","v":"C-F--01"},{"$f":"'Relay CD'!C14","v":""},{"$f":"'Relay CD'!D14","v":0},{"$f":"'Relay CD'!E14","v":0},{"$f":"'Relay CD'!F14","v":0}]
[{"$f":"'Relay CD'!A15","v":"Relay C-Female"},{"$f":"'Relay CD'!B15","v":"C-F--02"},{"$f":"'Relay CD'!C15","v":""},{"$f":"'Relay CD'!D15","v":0},{"$f":"'Relay CD'!E15","v":0},{"$f":"'Relay CD'!F15","v":0}]
[{"$f":"'Relay CD'!A16","v":"Relay C-Female"},{"$f":"'Relay CD'!B16","v":"C-F--03"},{"$f":"'Relay CD'!C16","v":""},{"$f":"'Relay CD'!D16","v":0},{"$f":"'Relay CD'!E16","v":0},{"$f":"'Relay CD'!F16","v":0}]
[{"$f":"'Relay CD'!A17","v":"Relay C-Female"},{"$f":"'Relay CD'!B17","v":"C-F--04"},{"$f":"'Relay CD'!C17","v":""},{"$f":"'Relay CD'!D17","v":0},{"$f":"'Relay CD'!E17","v":0},{"$f":"'Relay CD'!F17","v":0}]
[{"$f":"'Relay CD'!A18","v":"Relay C-Female"},{"$f":"'Relay CD'!B18","v":"C-F--05"},{"$f":"'Relay CD'!C18","v":""},{"$f":"'Relay CD'!D18","v":0},{"$f":"'Relay CD'!E18","v":0},{"$f":"'Relay CD'!F18","v":0}]
[{"$f":"'Relay CD'!A19","v":"Relay C-Female"},{"$f":"'Relay CD'!B19","v":"C-F--06"},{"$f":"'Relay CD'!C19","v":""},{"$f":"'Relay CD'!D19","v":0},{"$f":"'Relay CD'!E19","v":0},{"$f":"'Relay CD'!F19","v":0}]
[{"$f":"'Relay CD'!A20","v":"Relay C-Female"},{"$f":"'Relay CD'!B20","v":"C-F--07"},{"$f":"'Relay CD'!C20","v":""},{"$f":"'Relay CD'!D20","v":0},{"$f":"'Relay CD'!E20","v":0},{"$f":"'Relay CD'!F20","v":0}]
[{"$f":"'Relay CD'!A21","v":"Relay C-Female"},{"$f":"'Relay CD'!B21","v":"C-F--08"},{"$f":"'Relay CD'!C21","v":""},{"$f":"'Relay CD'!D21","v":0},{"$f":"'Relay CD'!E21","v":0},{"$f":"'Relay CD'!F21","v":0}]
[]
[{"$f":"'Relay CD'!A27","v":"Relay C-Male"},{"$f":"'Relay CD'!B27","v":"C-M--11"},{"$f":"'Relay CD'!C27","v":""},{"$f":"'Relay CD'!D27","v":0},{"$f":"'Relay CD'!E27","v":0},{"$f":"'Relay CD'!F27","v":0}]
[{"$f":"'Relay CD'!A28","v":"Relay C-Male"},{"$f":"'Relay CD'!B28","v":"C-M--12"},{"$f":"'Relay CD'!C28","v":""},{"$f":"'Relay CD'!D28","v":0},{"$f":"'Relay CD'!E28","v":0},{"$f":"'Relay CD'!F28","v":0}]
[{"$f":"'Relay CD'!A29","v":"Relay C-Male"},{"$f":"'Relay CD'!B29","v":"C-M--13"},{"$f":"'Relay CD'!C29","v":""},{"$f":"'Relay CD'!D29","v":0},{"$f":"'Relay CD'!E29","v":0},{"$f":"'Relay CD'!F29","v":0}]
[{"$f":"'Relay CD'!A30","v":"Relay C-Male"},{"$f":"'Relay CD'!B30","v":"C-M--14"},{"$f":"'Relay CD'!C30","v":""},{"$f":"'Relay CD'!D30","v":0},{"$f":"'Relay CD'!E30","v":0},{"$f":"'Relay CD'!F30","v":0}]
[{"$f":"'Relay CD'!A31","v":"Relay C-Male"},{"$f":"'Relay CD'!B31","v":"C-M--15"},{"$f":"'Relay CD'!C31","v":""},{"$f":"'Relay CD'!D31","v":0},{"$f":"'Relay CD'!E31","v":0},{"$f":"'Relay CD'!F31","v":0}]
[{"$f":"'Relay CD'!A32","v":"Relay C-Male"},{"$f":"'Relay CD'!B32","v":"C-M--16"},{"$f":"'Relay CD'!C32","v":""},{"$f":"'Relay CD'!D32","v":0},{"$f":"'Relay CD'!E32","v":0},{"$f":"'Relay CD'!F32","v":0}]
[{"$f":"'Relay CD'!A33","v":"Relay C-Male"},{"$f":"'Relay CD'!B33","v":"C-M--17"},{"$f":"'Relay CD'!C33","v":""},{"$f":"'Relay CD'!D33","v":0},{"$f":"'Relay CD'!E33","v":0},{"$f":"'Relay CD'!F33","v":0}]
[{"$f":"'Relay CD'!A34","v":"Relay C-Male"},{"$f":"'Relay CD'!B34","v":"C-M--18"},{"$f":"'Relay CD'!C34","v":""},{"$f":"'Relay CD'!D34","v":0},{"$f":"'Relay CD'!E34","v":0},{"$f":"'Relay CD'!F34","v":0}]
[]
[{"$f":"'Relay CD'!A43","v":"Relay D-Female"},{"$f":"'Relay CD'!B43","v":"D-F--01"},{"$f":"'Relay CD'!C43","v":""},{"$f":"'Relay CD'!D43","v":0},{"$f":"'Relay CD'!E43","v":0},{"$f":"'Relay CD'!F43","v":0}]
[{"$f":"'Relay CD'!A44","v":"Relay D-Female"},{"$f":"'Relay CD'!B44","v":"D-F--02"},{"$f":"'Relay CD'!C44","v":""},{"$f":"'Relay CD'!D44","v":0},{"$f":"'Relay CD'!E44","v":0},{"$f":"'Relay CD'!F44","v":0}]
[{"$f":"'Relay CD'!A45","v":"Relay D-Female"},{"$f":"'Relay CD'!B45","v":"D-F--03"},{"$f":"'Relay CD'!C45","v":""},{"$f":"'Relay CD'!D45","v":0},{"$f":"'Relay CD'!E45","v":0},{"$f":"'Relay CD'!F45","v":0}]
[{"$f":"'Relay CD'!A46","v":"Relay D-Female"},{"$f":"'Relay CD'!B46","v":"D-F--04"},{"$f":"'Relay CD'!C46","v":""},{"$f":"'Relay CD'!D46","v":0},{"$f":"'Relay CD'!E46","v":0},{"$f":"'Relay CD'!F46","v":0}]
[{"$f":"'Relay CD'!A47","v":"Relay D-Female"},{"$f":"'Relay CD'!B47","v":"D-F--05"},{"$f":"'Relay CD'!C47","v":""},{"$f":"'Relay CD'!D47","v":0},{"$f":"'Relay CD'!E47","v":0},{"$f":"'Relay CD'!F47","v":0}]
[{"$f":"'Relay CD'!A48","v":"Relay D-Female"},{"$f":"'Relay CD'!B48","v":"D-F--06"},{"$f":"'Relay CD'!C48","v":""},{"$f":"'Relay CD'!D48","v":0},{"$f":"'Relay CD'!E48","v":0},{"$f":"'Relay CD'!F48","v":0}]
[{"$f":"'Relay CD'!A49","v":"Relay D-Female"},{"$f":"'Relay CD'!B49","v":"D-F--07"},{"$f":"'Relay CD'!C49","v":""},{"$f":"'Relay CD'!D49","v":0},{"$f":"'Relay CD'!E49","v":0},{"$f":"'Relay CD'!F49","v":0}]
[{"$f":"'Relay CD'!A50","v":"Relay D-Female"},{"$f":"'Relay CD'!B50","v":"D-F--08"},{"$f":"'Relay CD'!C50","v":""},{"$f":"'Relay CD'!D50","v":0},{"$f":"'Relay CD'!E50","v":0},{"$f":"'Relay CD'!F50","v":0}]
[]
[{"$f":"'Relay CD'!A56","v":"Relay D-Male"},{"$f":"'Relay CD'!B56","v":"D-M--11"},{"$f":"'Relay CD'!C56","v":""},{"$f":"'Relay CD'!D56","v":0},{"$f":"'Relay CD'!E56","v":0},{"$f":"'Relay CD'!F56","v":0}]
[{"$f":"'Relay CD'!A57","v":"Relay D-Male"},{"$f":"'Relay CD'!B57","v":"D-M--12"},{"$f":"'Relay CD'!C57","v":""},{"$f":"'Relay CD'!D57","v":0},{"$f":"'Relay CD'!E57","v":0},{"$f":"'Relay CD'!F57","v":0}]
[{"$f":"'Relay CD'!A58","v":"Relay D-Male"},{"$f":"'Relay CD'!B58","v":"D-M--13"},{"$f":"'Relay CD'!C58","v":""},{"$f":"'Relay CD'!D58","v":0},{"$f":"'Relay CD'!E58","v":0},{"$f":"'Relay CD'!F58","v":0}]
[{"$f":"'Relay CD'!A59","v":"Relay D-Male"},{"$f":"'Relay CD'!B59","v":"D-M--14"},{"$f":"'Relay CD'!C59","v":""},{"$f":"'Relay CD'!D59","v":0},{"$f":"'Relay CD'!E59","v":0},{"$f":"'Relay CD'!F59","v":0}]
[{"$f":"'Relay CD'!A60","v":"Relay D-Male"},{"$f":"'Relay CD'!B60","v":"D-M--15"},{"$f":"'Relay CD'!C60","v":""},{"$f":"'Relay CD'!D60","v":0},{"$f":"'Relay CD'!E60","v":0},{"$f":"'Relay CD'!F60","v":0}]
[{"$f":"'Relay CD'!A61","v":"Relay D-Male"},{"$f":"'Relay CD'!B61","v":"D-M--16"},{"$f":"'Relay CD'!C61","v":""},{"$f":"'Relay CD'!D61","v":0},{"$f":"'Relay CD'!E61","v":0},{"$f":"'Relay CD'!F61","v":0}]
[{"$f":"'Relay CD'!A62","v":"Relay D-Male"},{"$f":"'Relay CD'!B62","v":"D-M--17"},{"$f":"'Relay CD'!C62","v":""},{"$f":"'Relay CD'!D62","v":0},{"$f":"'Relay CD'!E62","v":0},{"$f":"'Relay CD'!F62","v":0}]
[{"$f":"'Relay CD'!A63","v":"Relay D-Male"},{"$f":"'Relay CD'!B63","v":"D-M--18"},{"$f":"'Relay CD'!C63","v":""},{"$f":"'Relay CD'!D63","v":0},{"$f":"'Relay CD'!E63","v":0},{"$f":"'Relay CD'!F63","v":0}]

{"sheet":"Parameters","index":10,"n_rows":12,"n_cols":2,"rows_kept":12,"cut":false,"hidden":true,"merged":[]}
["Year:",2024]
["Last entry:","16th of June"]
["Ultimate payment:","20th of June"]
["Cat D Upper",{"$f":"B1-7","v":2017}]
["Cat D Lower",{"$f":"B1-11","v":2013}]
["Cat C Upper",{"$f":"B1-12","v":2012}]
["Cat C Lower",{"$f":"B1-14","v":2010}]
["Cat B Upper",{"$f":"B1-15","v":2009}]
["Cat B Lower",{"$f":"B1-18","v":2006}]
["Cat A Upper",{"$f":"B1-19","v":2005}]
["Cat M Upper",{"$f":"B1-30","v":1994}]
["Limit",{"$f":"B1-100","v":1924}]